BEGIN:VCALENDAR
VERSION:2.0
PRODID:-//Institut du Christ Roi Souverain Prêtre - Église Saint-Patrice - Rouen - ECPv4.9.12//NONSGML v1.0//EN
CALSCALE:GREGORIAN
METHOD:PUBLISH
X-WR-CALNAME:Institut du Christ Roi Souverain Prêtre - Église Saint-Patrice - Rouen
X-ORIGINAL-URL:https://icrsp-rouen.com
X-WR-CALDESC:Évènements pour Institut du Christ Roi Souverain Prêtre - Église Saint-Patrice - Rouen
BEGIN:VTIMEZONE
TZID:Europe/Paris
BEGIN:DAYLIGHT
TZOFFSETFROM:+0100
TZOFFSETTO:+0200
TZNAME:CEST
DTSTART:20210328T010000
END:DAYLIGHT
BEGIN:STANDARD
TZOFFSETFROM:+0200
TZOFFSETTO:+0100
TZNAME:CET
DTSTART:20211031T010000
END:STANDARD
END:VTIMEZONE
BEGIN:VEVENT
DTSTART;VALUE=DATE:20211021
DTEND;VALUE=DATE:20211022
DTSTAMP:20260419T213713
CREATED:20211016T142105Z
LAST-MODIFIED:20211016T142105Z
UID:7148-1634774400-1634860799@icrsp-rouen.com
SUMMARY:Saint Hilarion\, Sainte Ursule et ses compagnons
DESCRIPTION:
URL:https://icrsp-rouen.com/event/saint-hilarion-sainte-ursule-et-ses-compagnons/
CATEGORIES:Messe
END:VEVENT
BEGIN:VEVENT
DTSTART;TZID=Europe/Paris:20211021T121500
DTEND;TZID=Europe/Paris:20211021T121500
DTSTAMP:20260419T213713
CREATED:20211016T142145Z
LAST-MODIFIED:20211016T142145Z
UID:7150-1634818500-1634818500@icrsp-rouen.com
SUMMARY:Messe
DESCRIPTION:
URL:https://icrsp-rouen.com/event/messe-521/
CATEGORIES:Messe
END:VEVENT
END:VCALENDAR