BEGIN:VCALENDAR
VERSION:2.0
PRODID:-//Institut du Christ Roi Souverain Prêtre - Église Saint-Patrice - Rouen - ECPv4.9.12//NONSGML v1.0//EN
CALSCALE:GREGORIAN
METHOD:PUBLISH
X-WR-CALNAME:Institut du Christ Roi Souverain Prêtre - Église Saint-Patrice - Rouen
X-ORIGINAL-URL:https://icrsp-rouen.com
X-WR-CALDESC:Évènements pour Institut du Christ Roi Souverain Prêtre - Église Saint-Patrice - Rouen
BEGIN:VTIMEZONE
TZID:Europe/Paris
BEGIN:DAYLIGHT
TZOFFSETFROM:+0100
TZOFFSETTO:+0200
TZNAME:CEST
DTSTART:20210328T010000
END:DAYLIGHT
BEGIN:STANDARD
TZOFFSETFROM:+0200
TZOFFSETTO:+0100
TZNAME:CET
DTSTART:20211031T010000
END:STANDARD
END:VTIMEZONE
BEGIN:VEVENT
DTSTART;VALUE=DATE:20211020
DTEND;VALUE=DATE:20211021
DTSTAMP:20260419T231842
CREATED:20211016T141624Z
LAST-MODIFIED:20211016T141624Z
UID:7134-1634688000-1634774399@icrsp-rouen.com
SUMMARY:Saint Jean de Kenty\, confesseur
DESCRIPTION:
URL:https://icrsp-rouen.com/event/saint-jean-de-kenty-confesseur-2/
CATEGORIES:Messe
END:VEVENT
BEGIN:VEVENT
DTSTART;TZID=Europe/Paris:20211020T121500
DTEND;TZID=Europe/Paris:20211020T121500
DTSTAMP:20260419T231842
CREATED:20211016T141833Z
LAST-MODIFIED:20211016T141833Z
UID:7140-1634732100-1634732100@icrsp-rouen.com
SUMMARY:Messe
DESCRIPTION:
URL:https://icrsp-rouen.com/event/messe-520/
CATEGORIES:Messe
END:VEVENT
END:VCALENDAR