BEGIN:VCALENDAR
VERSION:2.0
PRODID:-//Institut du Christ Roi Souverain Prêtre - Église Saint-Patrice - Rouen - ECPv4.9.12//NONSGML v1.0//EN
CALSCALE:GREGORIAN
METHOD:PUBLISH
X-WR-CALNAME:Institut du Christ Roi Souverain Prêtre - Église Saint-Patrice - Rouen
X-ORIGINAL-URL:https://icrsp-rouen.com
X-WR-CALDESC:Évènements pour Institut du Christ Roi Souverain Prêtre - Église Saint-Patrice - Rouen
BEGIN:VTIMEZONE
TZID:Europe/Paris
BEGIN:DAYLIGHT
TZOFFSETFROM:+0100
TZOFFSETTO:+0200
TZNAME:CEST
DTSTART:20210328T010000
END:DAYLIGHT
BEGIN:STANDARD
TZOFFSETFROM:+0200
TZOFFSETTO:+0100
TZNAME:CET
DTSTART:20211031T010000
END:STANDARD
END:VTIMEZONE
BEGIN:VEVENT
DTSTART;VALUE=DATE:20211007
DTEND;VALUE=DATE:20211008
DTSTAMP:20260422T185017
CREATED:20211002T132155Z
LAST-MODIFIED:20211002T132155Z
UID:6986-1633564800-1633651199@icrsp-rouen.com
SUMMARY:Fête de Notre Dame du Rosaire
DESCRIPTION:
URL:https://icrsp-rouen.com/event/fete-de-notre-dame-du-rosaire/
CATEGORIES:Messe
END:VEVENT
BEGIN:VEVENT
DTSTART;TZID=Europe/Paris:20211007T121500
DTEND;TZID=Europe/Paris:20211007T121500
DTSTAMP:20260422T185017
CREATED:20211002T132251Z
LAST-MODIFIED:20211002T132251Z
UID:6988-1633608900-1633608900@icrsp-rouen.com
SUMMARY:Messe
DESCRIPTION:
URL:https://icrsp-rouen.com/event/messe-505/
CATEGORIES:Messe
END:VEVENT
END:VCALENDAR