BEGIN:VCALENDAR
VERSION:2.0
PRODID:-//Institut du Christ Roi Souverain Prêtre - Église Saint-Patrice - Rouen - ECPv4.9.12//NONSGML v1.0//EN
CALSCALE:GREGORIAN
METHOD:PUBLISH
X-WR-CALNAME:Institut du Christ Roi Souverain Prêtre - Église Saint-Patrice - Rouen
X-ORIGINAL-URL:https://icrsp-rouen.com
X-WR-CALDESC:Évènements pour Institut du Christ Roi Souverain Prêtre - Église Saint-Patrice - Rouen
BEGIN:VTIMEZONE
TZID:Europe/Paris
BEGIN:DAYLIGHT
TZOFFSETFROM:+0100
TZOFFSETTO:+0200
TZNAME:CEST
DTSTART:20210328T010000
END:DAYLIGHT
BEGIN:STANDARD
TZOFFSETFROM:+0200
TZOFFSETTO:+0100
TZNAME:CET
DTSTART:20211031T010000
END:STANDARD
END:VTIMEZONE
BEGIN:VEVENT
DTSTART;VALUE=DATE:20211003
DTEND;VALUE=DATE:20211004
DTSTAMP:20260423T001809
CREATED:20210925T154943Z
LAST-MODIFIED:20211002T130818Z
UID:6927-1633219200-1633305599@icrsp-rouen.com
SUMMARY:Solennité de Notre Dame du Rosaire
DESCRIPTION:Mémoire du XIXe dimanche après la Pentecôte \n
URL:https://icrsp-rouen.com/event/xixe-dimanche-apres-la-pentecote/
CATEGORIES:Messe
END:VEVENT
BEGIN:VEVENT
DTSTART;TZID=Europe/Paris:20211003T103000
DTEND;TZID=Europe/Paris:20211003T103000
DTSTAMP:20260423T001809
CREATED:20210925T155141Z
LAST-MODIFIED:20211002T145142Z
UID:6933-1633257000-1633257000@icrsp-rouen.com
SUMMARY:Messe chantée
DESCRIPTION:
URL:https://icrsp-rouen.com/event/messe-chantee-77/
CATEGORIES:Messe
END:VEVENT
END:VCALENDAR