BEGIN:VCALENDAR
VERSION:2.0
PRODID:-//Institut du Christ Roi Souverain Prêtre - Église Saint-Patrice - Rouen - ECPv4.9.12//NONSGML v1.0//EN
CALSCALE:GREGORIAN
METHOD:PUBLISH
X-WR-CALNAME:Institut du Christ Roi Souverain Prêtre - Église Saint-Patrice - Rouen
X-ORIGINAL-URL:https://icrsp-rouen.com
X-WR-CALDESC:Évènements pour Institut du Christ Roi Souverain Prêtre - Église Saint-Patrice - Rouen
BEGIN:VTIMEZONE
TZID:Europe/Paris
BEGIN:DAYLIGHT
TZOFFSETFROM:+0100
TZOFFSETTO:+0200
TZNAME:CEST
DTSTART:20210328T010000
END:DAYLIGHT
BEGIN:STANDARD
TZOFFSETFROM:+0200
TZOFFSETTO:+0100
TZNAME:CET
DTSTART:20211031T010000
END:STANDARD
END:VTIMEZONE
BEGIN:VEVENT
DTSTART;VALUE=DATE:20211001
DTEND;VALUE=DATE:20211002
DTSTAMP:20260423T025859
CREATED:20210925T154410Z
LAST-MODIFIED:20210925T154410Z
UID:6914-1633046400-1633132799@icrsp-rouen.com
SUMMARY:Dédicace de la Cathédrale de Notre Dame de Rouen (1er du mois)
DESCRIPTION:
URL:https://icrsp-rouen.com/event/dedicace-de-la-cathedrale-de-notre-dame-de-rouen-1er-du-mois/
CATEGORIES:Messe
END:VEVENT
BEGIN:VEVENT
DTSTART;TZID=Europe/Paris:20211001T180000
DTEND;TZID=Europe/Paris:20211001T180000
DTSTAMP:20260423T025859
CREATED:20210925T154453Z
LAST-MODIFIED:20210925T154453Z
UID:6916-1633111200-1633111200@icrsp-rouen.com
SUMMARY:Messe
DESCRIPTION:
URL:https://icrsp-rouen.com/event/messe-496/
CATEGORIES:Messe
END:VEVENT
END:VCALENDAR