BEGIN:VCALENDAR
VERSION:2.0
PRODID:-//Institut du Christ Roi Souverain Prêtre - Église Saint-Patrice - Rouen - ECPv4.9.12//NONSGML v1.0//EN
CALSCALE:GREGORIAN
METHOD:PUBLISH
X-WR-CALNAME:Institut du Christ Roi Souverain Prêtre - Église Saint-Patrice - Rouen
X-ORIGINAL-URL:https://icrsp-rouen.com
X-WR-CALDESC:Évènements pour Institut du Christ Roi Souverain Prêtre - Église Saint-Patrice - Rouen
BEGIN:VTIMEZONE
TZID:Europe/Paris
BEGIN:DAYLIGHT
TZOFFSETFROM:+0100
TZOFFSETTO:+0200
TZNAME:CEST
DTSTART:20210328T010000
END:DAYLIGHT
BEGIN:STANDARD
TZOFFSETFROM:+0200
TZOFFSETTO:+0100
TZNAME:CET
DTSTART:20211031T010000
END:STANDARD
END:VTIMEZONE
BEGIN:VEVENT
DTSTART;VALUE=DATE:20210929
DTEND;VALUE=DATE:20210930
DTSTAMP:20260423T060346
CREATED:20210925T153400Z
LAST-MODIFIED:20210925T153400Z
UID:6886-1632873600-1632959999@icrsp-rouen.com
SUMMARY:Dédicace de Saint Michel archange
DESCRIPTION:
URL:https://icrsp-rouen.com/event/dedicace-de-saint-michel-archange/
CATEGORIES:Messe
END:VEVENT
BEGIN:VEVENT
DTSTART;TZID=Europe/Paris:20210929T121500
DTEND;TZID=Europe/Paris:20210929T121500
DTSTAMP:20260423T060346
CREATED:20210925T153643Z
LAST-MODIFIED:20210925T153643Z
UID:6892-1632917700-1632917700@icrsp-rouen.com
SUMMARY:Messe
DESCRIPTION:
URL:https://icrsp-rouen.com/event/messe-493/
CATEGORIES:Messe
END:VEVENT
BEGIN:VEVENT
DTSTART;TZID=Europe/Paris:20210929T183000
DTEND;TZID=Europe/Paris:20210929T183000
DTSTAMP:20260423T060346
CREATED:20210925T153713Z
LAST-MODIFIED:20210925T153713Z
UID:6894-1632940200-1632940200@icrsp-rouen.com
SUMMARY:Messe
DESCRIPTION:
URL:https://icrsp-rouen.com/event/messe-494/
CATEGORIES:Messe
END:VEVENT
END:VCALENDAR