BEGIN:VCALENDAR
VERSION:2.0
PRODID:-//Institut du Christ Roi Souverain Prêtre - Église Saint-Patrice - Rouen - ECPv4.9.12//NONSGML v1.0//EN
CALSCALE:GREGORIAN
METHOD:PUBLISH
X-WR-CALNAME:Institut du Christ Roi Souverain Prêtre - Église Saint-Patrice - Rouen
X-ORIGINAL-URL:https://icrsp-rouen.com
X-WR-CALDESC:Évènements pour Institut du Christ Roi Souverain Prêtre - Église Saint-Patrice - Rouen
BEGIN:VTIMEZONE
TZID:Europe/Paris
BEGIN:DAYLIGHT
TZOFFSETFROM:+0100
TZOFFSETTO:+0200
TZNAME:CEST
DTSTART:20210328T010000
END:DAYLIGHT
BEGIN:STANDARD
TZOFFSETFROM:+0200
TZOFFSETTO:+0100
TZNAME:CET
DTSTART:20211031T010000
END:STANDARD
END:VTIMEZONE
BEGIN:VEVENT
DTSTART;VALUE=DATE:20210928
DTEND;VALUE=DATE:20210929
DTSTAMP:20260423T072832
CREATED:20210925T153053Z
LAST-MODIFIED:20210925T153053Z
UID:6876-1632787200-1632873599@icrsp-rouen.com
SUMMARY:Saint Wanceslas\, duc et martyr
DESCRIPTION:
URL:https://icrsp-rouen.com/event/saint-wanceslas-duc-et-martyr/
CATEGORIES:Messe
END:VEVENT
BEGIN:VEVENT
DTSTART;TZID=Europe/Paris:20210928T121500
DTEND;TZID=Europe/Paris:20210928T121500
DTSTAMP:20260423T072832
CREATED:20210925T153132Z
LAST-MODIFIED:20210925T153132Z
UID:6878-1632831300-1632831300@icrsp-rouen.com
SUMMARY:Messe
DESCRIPTION:
URL:https://icrsp-rouen.com/event/messe-491/
CATEGORIES:Messe
END:VEVENT
BEGIN:VEVENT
DTSTART;TZID=Europe/Paris:20210928T183000
DTEND;TZID=Europe/Paris:20210928T183000
DTSTAMP:20260423T072832
CREATED:20210925T153215Z
LAST-MODIFIED:20210925T153215Z
UID:6880-1632853800-1632853800@icrsp-rouen.com
SUMMARY:Messe
DESCRIPTION:
URL:https://icrsp-rouen.com/event/messe-492/
CATEGORIES:Messe
END:VEVENT
END:VCALENDAR