BEGIN:VCALENDAR
VERSION:2.0
PRODID:-//Institut du Christ Roi Souverain Prêtre - Église Saint-Patrice - Rouen - ECPv4.9.12//NONSGML v1.0//EN
CALSCALE:GREGORIAN
METHOD:PUBLISH
X-WR-CALNAME:Institut du Christ Roi Souverain Prêtre - Église Saint-Patrice - Rouen
X-ORIGINAL-URL:https://icrsp-rouen.com
X-WR-CALDESC:Évènements pour Institut du Christ Roi Souverain Prêtre - Église Saint-Patrice - Rouen
BEGIN:VTIMEZONE
TZID:Europe/Paris
BEGIN:DAYLIGHT
TZOFFSETFROM:+0100
TZOFFSETTO:+0200
TZNAME:CEST
DTSTART:20210328T010000
END:DAYLIGHT
BEGIN:STANDARD
TZOFFSETFROM:+0200
TZOFFSETTO:+0100
TZNAME:CET
DTSTART:20211031T010000
END:STANDARD
END:VTIMEZONE
BEGIN:VEVENT
DTSTART;VALUE=DATE:20210925
DTEND;VALUE=DATE:20210926
DTSTAMP:20260425T104859
CREATED:20210917T210913Z
LAST-MODIFIED:20210917T210913Z
UID:6840-1632528000-1632614399@icrsp-rouen.com
SUMMARY:Samedi des Quatre-Temps de septembre
DESCRIPTION:
URL:https://icrsp-rouen.com/event/samedi-des-quatre-temps-de-septembre/
CATEGORIES:Messe
END:VEVENT
BEGIN:VEVENT
DTSTART;TZID=Europe/Paris:20210925T110000
DTEND;TZID=Europe/Paris:20210925T110000
DTSTAMP:20260425T104859
CREATED:20210917T211019Z
LAST-MODIFIED:20210917T211019Z
UID:6842-1632567600-1632567600@icrsp-rouen.com
SUMMARY:Messe
DESCRIPTION:suivie du chapelet pour les malades \n
URL:https://icrsp-rouen.com/event/messe-488/
CATEGORIES:Messe
END:VEVENT
END:VCALENDAR