BEGIN:VCALENDAR
VERSION:2.0
PRODID:-//Institut du Christ Roi Souverain Prêtre - Église Saint-Patrice - Rouen - ECPv4.9.12//NONSGML v1.0//EN
CALSCALE:GREGORIAN
METHOD:PUBLISH
X-WR-CALNAME:Institut du Christ Roi Souverain Prêtre - Église Saint-Patrice - Rouen
X-ORIGINAL-URL:https://icrsp-rouen.com
X-WR-CALDESC:Évènements pour Institut du Christ Roi Souverain Prêtre - Église Saint-Patrice - Rouen
BEGIN:VTIMEZONE
TZID:Europe/Paris
BEGIN:DAYLIGHT
TZOFFSETFROM:+0100
TZOFFSETTO:+0200
TZNAME:CEST
DTSTART:20210328T010000
END:DAYLIGHT
BEGIN:STANDARD
TZOFFSETFROM:+0200
TZOFFSETTO:+0100
TZNAME:CET
DTSTART:20211031T010000
END:STANDARD
END:VTIMEZONE
BEGIN:VEVENT
DTSTART;VALUE=DATE:20210923
DTEND;VALUE=DATE:20210924
DTSTAMP:20260425T133613
CREATED:20210917T210308Z
LAST-MODIFIED:20210917T210308Z
UID:6820-1632355200-1632441599@icrsp-rouen.com
SUMMARY:Saint Lin\, pape et martyr
DESCRIPTION:
URL:https://icrsp-rouen.com/event/saint-lin-pape-et-martyr/
CATEGORIES:Messe
END:VEVENT
BEGIN:VEVENT
DTSTART;TZID=Europe/Paris:20210923T070000
DTEND;TZID=Europe/Paris:20210923T070000
DTSTAMP:20260425T133613
CREATED:20210917T210341Z
LAST-MODIFIED:20210917T210341Z
UID:6822-1632380400-1632380400@icrsp-rouen.com
SUMMARY:Messe
DESCRIPTION:
URL:https://icrsp-rouen.com/event/messe-485/
CATEGORIES:Messe
END:VEVENT
BEGIN:VEVENT
DTSTART;TZID=Europe/Paris:20210923T121500
DTEND;TZID=Europe/Paris:20210923T121500
DTSTAMP:20260425T133613
CREATED:20210917T210423Z
LAST-MODIFIED:20210917T210423Z
UID:6824-1632399300-1632399300@icrsp-rouen.com
SUMMARY:Messe
DESCRIPTION:
URL:https://icrsp-rouen.com/event/messe-486/
CATEGORIES:Messe
END:VEVENT
END:VCALENDAR