BEGIN:VCALENDAR
VERSION:2.0
PRODID:-//Institut du Christ Roi Souverain Prêtre - Église Saint-Patrice - Rouen - ECPv4.9.12//NONSGML v1.0//EN
CALSCALE:GREGORIAN
METHOD:PUBLISH
X-WR-CALNAME:Institut du Christ Roi Souverain Prêtre - Église Saint-Patrice - Rouen
X-ORIGINAL-URL:https://icrsp-rouen.com
X-WR-CALDESC:Évènements pour Institut du Christ Roi Souverain Prêtre - Église Saint-Patrice - Rouen
BEGIN:VTIMEZONE
TZID:Europe/Paris
BEGIN:DAYLIGHT
TZOFFSETFROM:+0100
TZOFFSETTO:+0200
TZNAME:CEST
DTSTART:20210328T010000
END:DAYLIGHT
BEGIN:STANDARD
TZOFFSETFROM:+0200
TZOFFSETTO:+0100
TZNAME:CET
DTSTART:20211031T010000
END:STANDARD
END:VTIMEZONE
BEGIN:VEVENT
DTSTART;VALUE=DATE:20210921
DTEND;VALUE=DATE:20210922
DTSTAMP:20260425T162516
CREATED:20210917T205508Z
LAST-MODIFIED:20210917T205508Z
UID:6794-1632182400-1632268799@icrsp-rouen.com
SUMMARY:Saint Mathieu\, apôtre et évangéliste
DESCRIPTION:
URL:https://icrsp-rouen.com/event/saint-mathieu-apotre-et-evangeliste-2/
CATEGORIES:Messe
END:VEVENT
BEGIN:VEVENT
DTSTART;TZID=Europe/Paris:20210921T121500
DTEND;TZID=Europe/Paris:20210921T121500
DTSTAMP:20260425T162516
CREATED:20210917T205549Z
LAST-MODIFIED:20210917T205549Z
UID:6796-1632226500-1632226500@icrsp-rouen.com
SUMMARY:Messe
DESCRIPTION:
URL:https://icrsp-rouen.com/event/messe-481/
CATEGORIES:Messe
END:VEVENT
BEGIN:VEVENT
DTSTART;TZID=Europe/Paris:20210921T183000
DTEND;TZID=Europe/Paris:20210921T183000
DTSTAMP:20260425T162516
CREATED:20210917T205617Z
LAST-MODIFIED:20210917T205617Z
UID:6798-1632249000-1632249000@icrsp-rouen.com
SUMMARY:Messe
DESCRIPTION:
URL:https://icrsp-rouen.com/event/messe-482/
CATEGORIES:Messe
END:VEVENT
END:VCALENDAR