BEGIN:VCALENDAR
VERSION:2.0
PRODID:-//Institut du Christ Roi Souverain Prêtre - Église Saint-Patrice - Rouen - ECPv4.9.12//NONSGML v1.0//EN
CALSCALE:GREGORIAN
METHOD:PUBLISH
X-WR-CALNAME:Institut du Christ Roi Souverain Prêtre - Église Saint-Patrice - Rouen
X-ORIGINAL-URL:https://icrsp-rouen.com
X-WR-CALDESC:Évènements pour Institut du Christ Roi Souverain Prêtre - Église Saint-Patrice - Rouen
BEGIN:VTIMEZONE
TZID:Europe/Paris
BEGIN:DAYLIGHT
TZOFFSETFROM:+0100
TZOFFSETTO:+0200
TZNAME:CEST
DTSTART:20210328T010000
END:DAYLIGHT
BEGIN:STANDARD
TZOFFSETFROM:+0200
TZOFFSETTO:+0100
TZNAME:CET
DTSTART:20211031T010000
END:STANDARD
END:VTIMEZONE
BEGIN:VEVENT
DTSTART;VALUE=DATE:20210918
DTEND;VALUE=DATE:20210919
DTSTAMP:20260425T204311
CREATED:20210911T174428Z
LAST-MODIFIED:20210911T174428Z
UID:6752-1631923200-1632009599@icrsp-rouen.com
SUMMARY:Saint Joseph de Cupertino
DESCRIPTION:
URL:https://icrsp-rouen.com/event/saint-joseph-de-cupertino-2/
CATEGORIES:Messe
END:VEVENT
BEGIN:VEVENT
DTSTART;TZID=Europe/Paris:20210918T110000
DTEND;TZID=Europe/Paris:20210918T110000
DTSTAMP:20260425T204311
CREATED:20210911T174515Z
LAST-MODIFIED:20210911T174515Z
UID:6754-1631962800-1631962800@icrsp-rouen.com
SUMMARY:Messe
DESCRIPTION:Suivie du chapelet de la confrérie des malades \n
URL:https://icrsp-rouen.com/event/messe-478/
CATEGORIES:Messe
END:VEVENT
END:VCALENDAR