BEGIN:VCALENDAR
VERSION:2.0
PRODID:-//Institut du Christ Roi Souverain Prêtre - Église Saint-Patrice - Rouen - ECPv4.9.12//NONSGML v1.0//EN
CALSCALE:GREGORIAN
METHOD:PUBLISH
X-WR-CALNAME:Institut du Christ Roi Souverain Prêtre - Église Saint-Patrice - Rouen
X-ORIGINAL-URL:https://icrsp-rouen.com
X-WR-CALDESC:Évènements pour Institut du Christ Roi Souverain Prêtre - Église Saint-Patrice - Rouen
BEGIN:VTIMEZONE
TZID:Europe/Paris
BEGIN:DAYLIGHT
TZOFFSETFROM:+0100
TZOFFSETTO:+0200
TZNAME:CEST
DTSTART:20210328T010000
END:DAYLIGHT
BEGIN:STANDARD
TZOFFSETFROM:+0200
TZOFFSETTO:+0100
TZNAME:CET
DTSTART:20211031T010000
END:STANDARD
END:VTIMEZONE
BEGIN:VEVENT
DTSTART;VALUE=DATE:20210915
DTEND;VALUE=DATE:20210916
DTSTAMP:20260426T010510
CREATED:20210911T173328Z
LAST-MODIFIED:20210911T173328Z
UID:6722-1631664000-1631750399@icrsp-rouen.com
SUMMARY:Sept Douleurs de la T.S Vierge Marie
DESCRIPTION:
URL:https://icrsp-rouen.com/event/sept-douleurs-de-la-t-s-vierge-marie/
CATEGORIES:Messe
END:VEVENT
BEGIN:VEVENT
DTSTART;TZID=Europe/Paris:20210915T121500
DTEND;TZID=Europe/Paris:20210915T121500
DTSTAMP:20260426T010510
CREATED:20210911T173557Z
LAST-MODIFIED:20210911T173557Z
UID:6728-1631708100-1631708100@icrsp-rouen.com
SUMMARY:Messe
DESCRIPTION:
URL:https://icrsp-rouen.com/event/messe-475/
CATEGORIES:Messe
END:VEVENT
BEGIN:VEVENT
DTSTART;TZID=Europe/Paris:20210915T183000
DTEND;TZID=Europe/Paris:20210915T183000
DTSTAMP:20260426T010510
CREATED:20210911T173628Z
LAST-MODIFIED:20210911T173628Z
UID:6730-1631730600-1631730600@icrsp-rouen.com
SUMMARY:Messe
DESCRIPTION:
URL:https://icrsp-rouen.com/event/messe-476/
CATEGORIES:Messe
END:VEVENT
END:VCALENDAR