BEGIN:VCALENDAR
VERSION:2.0
PRODID:-//Institut du Christ Roi Souverain Prêtre - Église Saint-Patrice - Rouen - ECPv4.9.12//NONSGML v1.0//EN
CALSCALE:GREGORIAN
METHOD:PUBLISH
X-WR-CALNAME:Institut du Christ Roi Souverain Prêtre - Église Saint-Patrice - Rouen
X-ORIGINAL-URL:https://icrsp-rouen.com
X-WR-CALDESC:Évènements pour Institut du Christ Roi Souverain Prêtre - Église Saint-Patrice - Rouen
BEGIN:VTIMEZONE
TZID:Europe/Paris
BEGIN:DAYLIGHT
TZOFFSETFROM:+0100
TZOFFSETTO:+0200
TZNAME:CEST
DTSTART:20210328T010000
END:DAYLIGHT
BEGIN:STANDARD
TZOFFSETFROM:+0200
TZOFFSETTO:+0100
TZNAME:CET
DTSTART:20211031T010000
END:STANDARD
END:VTIMEZONE
BEGIN:VEVENT
DTSTART;VALUE=DATE:20210914
DTEND;VALUE=DATE:20210915
DTSTAMP:20260426T022218
CREATED:20210911T173007Z
LAST-MODIFIED:20210911T173007Z
UID:6712-1631577600-1631663999@icrsp-rouen.com
SUMMARY:Exaltation de la Sainte Croix
DESCRIPTION:
URL:https://icrsp-rouen.com/event/exaltation-de-la-sainte-croix-2/
CATEGORIES:Messe
END:VEVENT
BEGIN:VEVENT
DTSTART;TZID=Europe/Paris:20210914T121500
DTEND;TZID=Europe/Paris:20210914T121500
DTSTAMP:20260426T022218
CREATED:20210911T173048Z
LAST-MODIFIED:20210911T173048Z
UID:6714-1631621700-1631621700@icrsp-rouen.com
SUMMARY:Messe
DESCRIPTION:
URL:https://icrsp-rouen.com/event/messe-473/
CATEGORIES:Messe
END:VEVENT
BEGIN:VEVENT
DTSTART;TZID=Europe/Paris:20210914T183000
DTEND;TZID=Europe/Paris:20210914T183000
DTSTAMP:20260426T022218
CREATED:20210911T173118Z
LAST-MODIFIED:20210911T173118Z
UID:6716-1631644200-1631644200@icrsp-rouen.com
SUMMARY:Messe
DESCRIPTION:
URL:https://icrsp-rouen.com/event/messe-474/
CATEGORIES:Messe
END:VEVENT
END:VCALENDAR