BEGIN:VCALENDAR
VERSION:2.0
PRODID:-//Institut du Christ Roi Souverain Prêtre - Église Saint-Patrice - Rouen - ECPv4.9.12//NONSGML v1.0//EN
CALSCALE:GREGORIAN
METHOD:PUBLISH
X-WR-CALNAME:Institut du Christ Roi Souverain Prêtre - Église Saint-Patrice - Rouen
X-ORIGINAL-URL:https://icrsp-rouen.com
X-WR-CALDESC:Évènements pour Institut du Christ Roi Souverain Prêtre - Église Saint-Patrice - Rouen
BEGIN:VTIMEZONE
TZID:Europe/Paris
BEGIN:DAYLIGHT
TZOFFSETFROM:+0100
TZOFFSETTO:+0200
TZNAME:CEST
DTSTART:20210328T010000
END:DAYLIGHT
BEGIN:STANDARD
TZOFFSETFROM:+0200
TZOFFSETTO:+0100
TZNAME:CET
DTSTART:20211031T010000
END:STANDARD
END:VTIMEZONE
BEGIN:VEVENT
DTSTART;VALUE=DATE:20210722
DTEND;VALUE=DATE:20210723
DTSTAMP:20260426T034716
CREATED:20210718T123447Z
LAST-MODIFIED:20210718T123447Z
UID:6412-1626912000-1626998399@icrsp-rouen.com
SUMMARY:Sainte Marie-Madeleine\, pénitente
DESCRIPTION:
URL:https://icrsp-rouen.com/event/sainte-marie-madeleine-penitente/
CATEGORIES:Messe
END:VEVENT
BEGIN:VEVENT
DTSTART;TZID=Europe/Paris:20210722T120000
DTEND;TZID=Europe/Paris:20210722T120000
DTSTAMP:20260426T034716
CREATED:20210718T123523Z
LAST-MODIFIED:20210718T123523Z
UID:6414-1626955200-1626955200@icrsp-rouen.com
SUMMARY:Messe
DESCRIPTION:
URL:https://icrsp-rouen.com/event/messe-439/
CATEGORIES:Messe
END:VEVENT
END:VCALENDAR