BEGIN:VCALENDAR
VERSION:2.0
PRODID:-//Institut du Christ Roi Souverain Prêtre - Église Saint-Patrice - Rouen - ECPv4.9.12//NONSGML v1.0//EN
CALSCALE:GREGORIAN
METHOD:PUBLISH
X-WR-CALNAME:Institut du Christ Roi Souverain Prêtre - Église Saint-Patrice - Rouen
X-ORIGINAL-URL:https://icrsp-rouen.com
X-WR-CALDESC:Évènements pour Institut du Christ Roi Souverain Prêtre - Église Saint-Patrice - Rouen
BEGIN:VTIMEZONE
TZID:Europe/Paris
BEGIN:DAYLIGHT
TZOFFSETFROM:+0100
TZOFFSETTO:+0200
TZNAME:CEST
DTSTART:20210328T010000
END:DAYLIGHT
BEGIN:STANDARD
TZOFFSETFROM:+0200
TZOFFSETTO:+0100
TZNAME:CET
DTSTART:20211031T010000
END:STANDARD
END:VTIMEZONE
BEGIN:VEVENT
DTSTART;VALUE=DATE:20210705
DTEND;VALUE=DATE:20210706
DTSTAMP:20260425T035444
CREATED:20210703T194200Z
LAST-MODIFIED:20210703T194200Z
UID:6347-1625443200-1625529599@icrsp-rouen.com
SUMMARY:Saint Antoine-Marie Zaccaria\, confesseur
DESCRIPTION:
URL:https://icrsp-rouen.com/event/saint-antoine-marie-zaccaria-confesseur/
CATEGORIES:Messe
END:VEVENT
BEGIN:VEVENT
DTSTART;TZID=Europe/Paris:20210705T120000
DTEND;TZID=Europe/Paris:20210705T120000
DTSTAMP:20260425T035444
CREATED:20210703T194234Z
LAST-MODIFIED:20210703T194234Z
UID:6349-1625486400-1625486400@icrsp-rouen.com
SUMMARY:Messe
DESCRIPTION:
URL:https://icrsp-rouen.com/event/messe-429/
CATEGORIES:Messe
END:VEVENT
END:VCALENDAR