BEGIN:VCALENDAR
VERSION:2.0
PRODID:-//Institut du Christ Roi Souverain Prêtre - Église Saint-Patrice - Rouen - ECPv4.9.12//NONSGML v1.0//EN
CALSCALE:GREGORIAN
METHOD:PUBLISH
X-WR-CALNAME:Institut du Christ Roi Souverain Prêtre - Église Saint-Patrice - Rouen
X-ORIGINAL-URL:https://icrsp-rouen.com
X-WR-CALDESC:Évènements pour Institut du Christ Roi Souverain Prêtre - Église Saint-Patrice - Rouen
BEGIN:VTIMEZONE
TZID:Europe/Paris
BEGIN:DAYLIGHT
TZOFFSETFROM:+0100
TZOFFSETTO:+0200
TZNAME:CEST
DTSTART:20210328T010000
END:DAYLIGHT
BEGIN:STANDARD
TZOFFSETFROM:+0200
TZOFFSETTO:+0100
TZNAME:CET
DTSTART:20211031T010000
END:STANDARD
END:VTIMEZONE
BEGIN:VEVENT
DTSTART;VALUE=DATE:20210623
DTEND;VALUE=DATE:20210624
DTSTAMP:20260423T213840
CREATED:20210617T172248Z
LAST-MODIFIED:20210617T172248Z
UID:6224-1624406400-1624492799@icrsp-rouen.com
SUMMARY:Vigile de Saint Jean-Baptiste
DESCRIPTION:
URL:https://icrsp-rouen.com/event/vigile-de-saint-jean-baptiste-2/
CATEGORIES:Messe
END:VEVENT
BEGIN:VEVENT
DTSTART;TZID=Europe/Paris:20210623T121500
DTEND;TZID=Europe/Paris:20210623T121500
DTSTAMP:20260423T213840
CREATED:20210617T172516Z
LAST-MODIFIED:20210617T172516Z
UID:6230-1624450500-1624450500@icrsp-rouen.com
SUMMARY:Messe
DESCRIPTION:
URL:https://icrsp-rouen.com/event/messe-417/
CATEGORIES:Messe
END:VEVENT
BEGIN:VEVENT
DTSTART;TZID=Europe/Paris:20210623T183000
DTEND;TZID=Europe/Paris:20210623T183000
DTSTAMP:20260423T213840
CREATED:20210617T172546Z
LAST-MODIFIED:20210617T172546Z
UID:6232-1624473000-1624473000@icrsp-rouen.com
SUMMARY:Messe
DESCRIPTION:
URL:https://icrsp-rouen.com/event/messe-418/
CATEGORIES:Messe
END:VEVENT
END:VCALENDAR