BEGIN:VCALENDAR
VERSION:2.0
PRODID:-//Institut du Christ Roi Souverain Prêtre - Église Saint-Patrice - Rouen - ECPv4.9.12//NONSGML v1.0//EN
CALSCALE:GREGORIAN
METHOD:PUBLISH
X-WR-CALNAME:Institut du Christ Roi Souverain Prêtre - Église Saint-Patrice - Rouen
X-ORIGINAL-URL:https://icrsp-rouen.com
X-WR-CALDESC:Évènements pour Institut du Christ Roi Souverain Prêtre - Église Saint-Patrice - Rouen
BEGIN:VTIMEZONE
TZID:Europe/Paris
BEGIN:DAYLIGHT
TZOFFSETFROM:+0100
TZOFFSETTO:+0200
TZNAME:CEST
DTSTART:20210328T010000
END:DAYLIGHT
BEGIN:STANDARD
TZOFFSETFROM:+0200
TZOFFSETTO:+0100
TZNAME:CET
DTSTART:20211031T010000
END:STANDARD
END:VTIMEZONE
BEGIN:VEVENT
DTSTART;VALUE=DATE:20210614
DTEND;VALUE=DATE:20210615
DTSTAMP:20260423T090306
CREATED:20210611T200919Z
LAST-MODIFIED:20210611T200919Z
UID:6139-1623628800-1623715199@icrsp-rouen.com
SUMMARY:Saint Basile le Grand\, confesseur et docteur de l'Église
DESCRIPTION:
URL:https://icrsp-rouen.com/event/saint-basile-le-grand-confesseur-et-docteur-de-leglise/
CATEGORIES:Messe
END:VEVENT
BEGIN:VEVENT
DTSTART;TZID=Europe/Paris:20210614T110000
DTEND;TZID=Europe/Paris:20210614T110000
DTSTAMP:20260423T090306
CREATED:20210611T201011Z
LAST-MODIFIED:20210611T201011Z
UID:6141-1623668400-1623668400@icrsp-rouen.com
SUMMARY:Messe
DESCRIPTION:
URL:https://icrsp-rouen.com/event/messe-403/
CATEGORIES:Messe
END:VEVENT
BEGIN:VEVENT
DTSTART;TZID=Europe/Paris:20210614T183000
DTEND;TZID=Europe/Paris:20210614T183000
DTSTAMP:20260423T090306
CREATED:20210611T201231Z
LAST-MODIFIED:20210611T201231Z
UID:6147-1623695400-1623695400@icrsp-rouen.com
SUMMARY:Messe
DESCRIPTION:
URL:https://icrsp-rouen.com/event/messe-404/
CATEGORIES:Messe
END:VEVENT
END:VCALENDAR