BEGIN:VCALENDAR
VERSION:2.0
PRODID:-//Institut du Christ Roi Souverain Prêtre - Église Saint-Patrice - Rouen - ECPv4.9.12//NONSGML v1.0//EN
CALSCALE:GREGORIAN
METHOD:PUBLISH
X-WR-CALNAME:Institut du Christ Roi Souverain Prêtre - Église Saint-Patrice - Rouen
X-ORIGINAL-URL:https://icrsp-rouen.com
X-WR-CALDESC:Évènements pour Institut du Christ Roi Souverain Prêtre - Église Saint-Patrice - Rouen
BEGIN:VTIMEZONE
TZID:Europe/Paris
BEGIN:DAYLIGHT
TZOFFSETFROM:+0100
TZOFFSETTO:+0200
TZNAME:CEST
DTSTART:20210328T010000
END:DAYLIGHT
BEGIN:STANDARD
TZOFFSETFROM:+0200
TZOFFSETTO:+0100
TZNAME:CET
DTSTART:20211031T010000
END:STANDARD
END:VTIMEZONE
BEGIN:VEVENT
DTSTART;VALUE=DATE:20210606
DTEND;VALUE=DATE:20210607
DTSTAMP:20260422T212738
CREATED:20210529T081223Z
LAST-MODIFIED:20210529T081223Z
UID:6062-1622937600-1623023999@icrsp-rouen.com
SUMMARY:Solennité de la Fête-Dieu
DESCRIPTION:
URL:https://icrsp-rouen.com/event/solennite-de-la-fete-dieu-2/
CATEGORIES:Messe
END:VEVENT
BEGIN:VEVENT
DTSTART;TZID=Europe/Paris:20210606T103000
DTEND;TZID=Europe/Paris:20210606T103000
DTSTAMP:20260422T212738
CREATED:20210529T081500Z
LAST-MODIFIED:20210529T081500Z
UID:6068-1622975400-1622975400@icrsp-rouen.com
SUMMARY:Messe chantée
DESCRIPTION:et procession du Saint-Sacrement \n
URL:https://icrsp-rouen.com/event/messe-chantee-62/
CATEGORIES:Messe
END:VEVENT
END:VCALENDAR