BEGIN:VCALENDAR
VERSION:2.0
PRODID:-//Institut du Christ Roi Souverain Prêtre - Église Saint-Patrice - Rouen - ECPv4.9.12//NONSGML v1.0//EN
CALSCALE:GREGORIAN
METHOD:PUBLISH
X-WR-CALNAME:Institut du Christ Roi Souverain Prêtre - Église Saint-Patrice - Rouen
X-ORIGINAL-URL:https://icrsp-rouen.com
X-WR-CALDESC:Évènements pour Institut du Christ Roi Souverain Prêtre - Église Saint-Patrice - Rouen
BEGIN:VTIMEZONE
TZID:Europe/Paris
BEGIN:DAYLIGHT
TZOFFSETFROM:+0100
TZOFFSETTO:+0200
TZNAME:CEST
DTSTART:20210328T010000
END:DAYLIGHT
BEGIN:STANDARD
TZOFFSETFROM:+0200
TZOFFSETTO:+0100
TZNAME:CET
DTSTART:20211031T010000
END:STANDARD
END:VTIMEZONE
BEGIN:VEVENT
DTSTART;VALUE=DATE:20210603
DTEND;VALUE=DATE:20210604
DTSTAMP:20260422T173241
CREATED:20210529T080506Z
LAST-MODIFIED:20210529T080506Z
UID:6046-1622678400-1622764799@icrsp-rouen.com
SUMMARY:Fête du Très Saint-Sacrement
DESCRIPTION:
URL:https://icrsp-rouen.com/event/fete-du-tres-saint-sacrement-2/
CATEGORIES:Messe
END:VEVENT
BEGIN:VEVENT
DTSTART;TZID=Europe/Paris:20210603T121500
DTEND;TZID=Europe/Paris:20210603T121500
DTSTAMP:20260422T173241
CREATED:20210529T080545Z
LAST-MODIFIED:20210529T080545Z
UID:6048-1622722500-1622722500@icrsp-rouen.com
SUMMARY:Messe
DESCRIPTION:
URL:https://icrsp-rouen.com/event/messe-396/
CATEGORIES:Messe
END:VEVENT
END:VCALENDAR