BEGIN:VCALENDAR
VERSION:2.0
PRODID:-//Institut du Christ Roi Souverain Prêtre - Église Saint-Patrice - Rouen - ECPv4.9.12//NONSGML v1.0//EN
CALSCALE:GREGORIAN
METHOD:PUBLISH
X-WR-CALNAME:Institut du Christ Roi Souverain Prêtre - Église Saint-Patrice - Rouen
X-ORIGINAL-URL:https://icrsp-rouen.com
X-WR-CALDESC:Évènements pour Institut du Christ Roi Souverain Prêtre - Église Saint-Patrice - Rouen
BEGIN:VTIMEZONE
TZID:Europe/Paris
BEGIN:DAYLIGHT
TZOFFSETFROM:+0100
TZOFFSETTO:+0200
TZNAME:CEST
DTSTART:20210328T010000
END:DAYLIGHT
BEGIN:STANDARD
TZOFFSETFROM:+0200
TZOFFSETTO:+0100
TZNAME:CET
DTSTART:20211031T010000
END:STANDARD
END:VTIMEZONE
BEGIN:VEVENT
DTSTART;VALUE=DATE:20210602
DTEND;VALUE=DATE:20210603
DTSTAMP:20260422T161050
CREATED:20210529T080019Z
LAST-MODIFIED:20210529T080019Z
UID:6034-1622592000-1622678399@icrsp-rouen.com
SUMMARY:Férie
DESCRIPTION:
URL:https://icrsp-rouen.com/event/ferie-90/
CATEGORIES:Messe
END:VEVENT
BEGIN:VEVENT
DTSTART;TZID=Europe/Paris:20210602T121500
DTEND;TZID=Europe/Paris:20210602T121500
DTSTAMP:20260422T161050
CREATED:20210529T080316Z
LAST-MODIFIED:20210529T080316Z
UID:6040-1622636100-1622636100@icrsp-rouen.com
SUMMARY:Messe du premier dimanche après la Pentecôte
DESCRIPTION:
URL:https://icrsp-rouen.com/event/messe-du-premier-dimanche-apres-la-pentecote/
CATEGORIES:Messe
END:VEVENT
BEGIN:VEVENT
DTSTART;TZID=Europe/Paris:20210602T183000
DTEND;TZID=Europe/Paris:20210602T183000
DTSTAMP:20260422T161050
CREATED:20210529T080354Z
LAST-MODIFIED:20210529T080354Z
UID:6042-1622658600-1622658600@icrsp-rouen.com
SUMMARY:Messe du premier dimanche après la Pentecôte
DESCRIPTION:
URL:https://icrsp-rouen.com/event/messe-du-premier-dimanche-apres-la-pentecote-2/
CATEGORIES:Messe
END:VEVENT
END:VCALENDAR