BEGIN:VCALENDAR
VERSION:2.0
PRODID:-//Institut du Christ Roi Souverain Prêtre - Église Saint-Patrice - Rouen - ECPv4.9.12//NONSGML v1.0//EN
CALSCALE:GREGORIAN
METHOD:PUBLISH
X-WR-CALNAME:Institut du Christ Roi Souverain Prêtre - Église Saint-Patrice - Rouen
X-ORIGINAL-URL:https://icrsp-rouen.com
X-WR-CALDESC:Évènements pour Institut du Christ Roi Souverain Prêtre - Église Saint-Patrice - Rouen
BEGIN:VTIMEZONE
TZID:Europe/Paris
BEGIN:DAYLIGHT
TZOFFSETFROM:+0100
TZOFFSETTO:+0200
TZNAME:CEST
DTSTART:20210328T010000
END:DAYLIGHT
BEGIN:STANDARD
TZOFFSETFROM:+0200
TZOFFSETTO:+0100
TZNAME:CET
DTSTART:20211031T010000
END:STANDARD
END:VTIMEZONE
BEGIN:VEVENT
DTSTART;VALUE=DATE:20210531
DTEND;VALUE=DATE:20210601
DTSTAMP:20260422T132726
CREATED:20210529T075231Z
LAST-MODIFIED:20210529T075231Z
UID:6014-1622419200-1622505599@icrsp-rouen.com
SUMMARY:Fête de la Sainte Vierge Marie\, Reine
DESCRIPTION:
URL:https://icrsp-rouen.com/event/fete-de-la-sainte-vierge-marie-reine/
CATEGORIES:Messe
END:VEVENT
BEGIN:VEVENT
DTSTART;TZID=Europe/Paris:20210531T110000
DTEND;TZID=Europe/Paris:20210531T110000
DTSTAMP:20260422T132726
CREATED:20210529T075305Z
LAST-MODIFIED:20210529T075305Z
UID:6016-1622458800-1622458800@icrsp-rouen.com
SUMMARY:Messe
DESCRIPTION:
URL:https://icrsp-rouen.com/event/messe-392/
CATEGORIES:Messe
END:VEVENT
BEGIN:VEVENT
DTSTART;TZID=Europe/Paris:20210531T183000
DTEND;TZID=Europe/Paris:20210531T183000
DTSTAMP:20260422T132726
CREATED:20210529T075517Z
LAST-MODIFIED:20210529T075532Z
UID:6022-1622485800-1622485800@icrsp-rouen.com
SUMMARY:Messe
DESCRIPTION:
URL:https://icrsp-rouen.com/event/messe-393/
CATEGORIES:Messe
END:VEVENT
END:VCALENDAR