BEGIN:VCALENDAR
VERSION:2.0
PRODID:-//Institut du Christ Roi Souverain Prêtre - Église Saint-Patrice - Rouen - ECPv4.9.12//NONSGML v1.0//EN
CALSCALE:GREGORIAN
METHOD:PUBLISH
X-WR-CALNAME:Institut du Christ Roi Souverain Prêtre - Église Saint-Patrice - Rouen
X-ORIGINAL-URL:https://icrsp-rouen.com
X-WR-CALDESC:Évènements pour Institut du Christ Roi Souverain Prêtre - Église Saint-Patrice - Rouen
BEGIN:VTIMEZONE
TZID:Europe/Paris
BEGIN:DAYLIGHT
TZOFFSETFROM:+0100
TZOFFSETTO:+0200
TZNAME:CEST
DTSTART:20210328T010000
END:DAYLIGHT
BEGIN:STANDARD
TZOFFSETFROM:+0200
TZOFFSETTO:+0100
TZNAME:CET
DTSTART:20211031T010000
END:STANDARD
END:VTIMEZONE
BEGIN:VEVENT
DTSTART;VALUE=DATE:20210530
DTEND;VALUE=DATE:20210531
DTSTAMP:20260422T115830
CREATED:20210521T183425Z
LAST-MODIFIED:20210521T183425Z
UID:5998-1622332800-1622419199@icrsp-rouen.com
SUMMARY:Fête de la Sainte Trinité
DESCRIPTION:
URL:https://icrsp-rouen.com/event/fete-de-la-sainte-trinite/
CATEGORIES:Messe
END:VEVENT
BEGIN:VEVENT
DTSTART;TZID=Europe/Paris:20210530T090000
DTEND;TZID=Europe/Paris:20210530T090000
DTSTAMP:20260422T115830
CREATED:20210529T074937Z
LAST-MODIFIED:20210529T074937Z
UID:6009-1622365200-1622365200@icrsp-rouen.com
SUMMARY:Messe basse
DESCRIPTION:
URL:https://icrsp-rouen.com/event/messe-basse-2/
CATEGORIES:Messe
END:VEVENT
BEGIN:VEVENT
DTSTART;TZID=Europe/Paris:20210530T103000
DTEND;TZID=Europe/Paris:20210530T103000
DTSTAMP:20260422T115830
CREATED:20210521T183700Z
LAST-MODIFIED:20210521T183700Z
UID:6004-1622370600-1622370600@icrsp-rouen.com
SUMMARY:Messe chantée
DESCRIPTION:
URL:https://icrsp-rouen.com/event/messe-chantee-61/
CATEGORIES:Messe
END:VEVENT
END:VCALENDAR