BEGIN:VCALENDAR
VERSION:2.0
PRODID:-//Institut du Christ Roi Souverain Prêtre - Église Saint-Patrice - Rouen - ECPv4.9.12//NONSGML v1.0//EN
CALSCALE:GREGORIAN
METHOD:PUBLISH
X-WR-CALNAME:Institut du Christ Roi Souverain Prêtre - Église Saint-Patrice - Rouen
X-ORIGINAL-URL:https://icrsp-rouen.com
X-WR-CALDESC:Évènements pour Institut du Christ Roi Souverain Prêtre - Église Saint-Patrice - Rouen
BEGIN:VTIMEZONE
TZID:Europe/Paris
BEGIN:DAYLIGHT
TZOFFSETFROM:+0100
TZOFFSETTO:+0200
TZNAME:CEST
DTSTART:20210328T010000
END:DAYLIGHT
BEGIN:STANDARD
TZOFFSETFROM:+0200
TZOFFSETTO:+0100
TZNAME:CET
DTSTART:20211031T010000
END:STANDARD
END:VTIMEZONE
BEGIN:VEVENT
DTSTART;VALUE=DATE:20210526
DTEND;VALUE=DATE:20210527
DTSTAMP:20260420T055722
CREATED:20210521T182000Z
LAST-MODIFIED:20210521T182000Z
UID:5964-1621987200-1622073599@icrsp-rouen.com
SUMMARY:Quatre-Temps de Pentecôte
DESCRIPTION:
URL:https://icrsp-rouen.com/event/quatre-temps-de-pentecote/
CATEGORIES:Messe
END:VEVENT
BEGIN:VEVENT
DTSTART;TZID=Europe/Paris:20210526T121500
DTEND;TZID=Europe/Paris:20210526T121500
DTSTAMP:20260420T055722
CREATED:20210521T182248Z
LAST-MODIFIED:20210521T182248Z
UID:5970-1622031300-1622031300@icrsp-rouen.com
SUMMARY:Messe
DESCRIPTION:
URL:https://icrsp-rouen.com/event/messe-386/
CATEGORIES:Messe
END:VEVENT
BEGIN:VEVENT
DTSTART;TZID=Europe/Paris:20210526T183000
DTEND;TZID=Europe/Paris:20210526T183000
DTSTAMP:20260420T055722
CREATED:20210521T182331Z
LAST-MODIFIED:20210521T182331Z
UID:5972-1622053800-1622053800@icrsp-rouen.com
SUMMARY:Messe
DESCRIPTION:
URL:https://icrsp-rouen.com/event/messe-387/
CATEGORIES:Messe
END:VEVENT
END:VCALENDAR