BEGIN:VCALENDAR
VERSION:2.0
PRODID:-//Institut du Christ Roi Souverain Prêtre - Église Saint-Patrice - Rouen - ECPv4.9.12//NONSGML v1.0//EN
CALSCALE:GREGORIAN
METHOD:PUBLISH
X-WR-CALNAME:Institut du Christ Roi Souverain Prêtre - Église Saint-Patrice - Rouen
X-ORIGINAL-URL:https://icrsp-rouen.com
X-WR-CALDESC:Évènements pour Institut du Christ Roi Souverain Prêtre - Église Saint-Patrice - Rouen
BEGIN:VTIMEZONE
TZID:Europe/Paris
BEGIN:DAYLIGHT
TZOFFSETFROM:+0100
TZOFFSETTO:+0200
TZNAME:CEST
DTSTART:20210328T010000
END:DAYLIGHT
BEGIN:STANDARD
TZOFFSETFROM:+0200
TZOFFSETTO:+0100
TZNAME:CET
DTSTART:20211031T010000
END:STANDARD
END:VTIMEZONE
BEGIN:VEVENT
DTSTART;VALUE=DATE:20210426
DTEND;VALUE=DATE:20210427
DTSTAMP:20260422T043829
CREATED:20210424T153147Z
LAST-MODIFIED:20210424T153147Z
UID:5743-1619395200-1619481599@icrsp-rouen.com
SUMMARY:Saints Clet et Marcellin\, martyrs
DESCRIPTION:
URL:https://icrsp-rouen.com/event/saints-clet-et-marcellin-martyrs-2/
CATEGORIES:Messe
END:VEVENT
BEGIN:VEVENT
DTSTART;TZID=Europe/Paris:20210426T180000
DTEND;TZID=Europe/Paris:20210426T180000
DTSTAMP:20260422T043829
CREATED:20210424T151149Z
LAST-MODIFIED:20210424T151149Z
UID:5689-1619460000-1619460000@icrsp-rouen.com
SUMMARY:Messe
DESCRIPTION:
URL:https://icrsp-rouen.com/event/messe-355/
CATEGORIES:Messe
END:VEVENT
END:VCALENDAR