BEGIN:VCALENDAR
VERSION:2.0
PRODID:-//Institut du Christ Roi Souverain Prêtre - Église Saint-Patrice - Rouen - ECPv4.9.12//NONSGML v1.0//EN
CALSCALE:GREGORIAN
METHOD:PUBLISH
X-WR-CALNAME:Institut du Christ Roi Souverain Prêtre - Église Saint-Patrice - Rouen
X-ORIGINAL-URL:https://icrsp-rouen.com
X-WR-CALDESC:Évènements pour Institut du Christ Roi Souverain Prêtre - Église Saint-Patrice - Rouen
BEGIN:VTIMEZONE
TZID:Europe/Paris
BEGIN:DAYLIGHT
TZOFFSETFROM:+0100
TZOFFSETTO:+0200
TZNAME:CEST
DTSTART:20210328T010000
END:DAYLIGHT
BEGIN:STANDARD
TZOFFSETFROM:+0200
TZOFFSETTO:+0100
TZNAME:CET
DTSTART:20211031T010000
END:STANDARD
END:VTIMEZONE
BEGIN:VEVENT
DTSTART;VALUE=DATE:20210414
DTEND;VALUE=DATE:20210415
DTSTAMP:20260421T112432
CREATED:20210411T060100Z
LAST-MODIFIED:20210411T060100Z
UID:5594-1618358400-1618444799@icrsp-rouen.com
SUMMARY:Saint Justin\, martyr
DESCRIPTION:
URL:https://icrsp-rouen.com/event/saint-justin-martyr/
CATEGORIES:Messe
END:VEVENT
BEGIN:VEVENT
DTSTART;TZID=Europe/Paris:20210414T070000
DTEND;TZID=Europe/Paris:20210414T070000
DTSTAMP:20260421T112432
CREATED:20210411T060134Z
LAST-MODIFIED:20210411T060134Z
UID:5596-1618383600-1618383600@icrsp-rouen.com
SUMMARY:Messe
DESCRIPTION:
URL:https://icrsp-rouen.com/event/messe-348/
CATEGORIES:Messe
END:VEVENT
BEGIN:VEVENT
DTSTART;TZID=Europe/Paris:20210414T180000
DTEND;TZID=Europe/Paris:20210414T180000
DTSTAMP:20260421T112432
CREATED:20210411T060326Z
LAST-MODIFIED:20210411T060326Z
UID:5602-1618423200-1618423200@icrsp-rouen.com
SUMMARY:Messe
DESCRIPTION:
URL:https://icrsp-rouen.com/event/messe-349/
CATEGORIES:Messe
END:VEVENT
END:VCALENDAR