BEGIN:VCALENDAR
VERSION:2.0
PRODID:-//Institut du Christ Roi Souverain Prêtre - Église Saint-Patrice - Rouen - ECPv4.9.12//NONSGML v1.0//EN
CALSCALE:GREGORIAN
METHOD:PUBLISH
X-WR-CALNAME:Institut du Christ Roi Souverain Prêtre - Église Saint-Patrice - Rouen
X-ORIGINAL-URL:https://icrsp-rouen.com
X-WR-CALDESC:Évènements pour Institut du Christ Roi Souverain Prêtre - Église Saint-Patrice - Rouen
BEGIN:VTIMEZONE
TZID:Europe/Paris
BEGIN:DAYLIGHT
TZOFFSETFROM:+0100
TZOFFSETTO:+0200
TZNAME:CEST
DTSTART:20200329T010000
END:DAYLIGHT
BEGIN:STANDARD
TZOFFSETFROM:+0200
TZOFFSETTO:+0100
TZNAME:CET
DTSTART:20201025T010000
END:STANDARD
END:VTIMEZONE
BEGIN:VEVENT
DTSTART;VALUE=DATE:20201006
DTEND;VALUE=DATE:20201007
DTSTAMP:20260419T213723
CREATED:20201003T194009Z
LAST-MODIFIED:20201003T194009Z
UID:4065-1601942400-1602028799@icrsp-rouen.com
SUMMARY:Saint Bruno\, confesseur
DESCRIPTION:
URL:https://icrsp-rouen.com/event/saint-bruno-confesseur/
CATEGORIES:Messe
END:VEVENT
BEGIN:VEVENT
DTSTART;TZID=Europe/Paris:20201006T121500
DTEND;TZID=Europe/Paris:20201006T121500
DTSTAMP:20260419T213723
CREATED:20201003T194058Z
LAST-MODIFIED:20201003T194058Z
UID:4067-1601986500-1601986500@icrsp-rouen.com
SUMMARY:Messe
DESCRIPTION:
URL:https://icrsp-rouen.com/event/messe-184/
CATEGORIES:Messe
END:VEVENT
BEGIN:VEVENT
DTSTART;TZID=Europe/Paris:20201006T183000
DTEND;TZID=Europe/Paris:20201006T183000
DTSTAMP:20260419T213723
CREATED:20201003T194141Z
LAST-MODIFIED:20201003T194141Z
UID:4069-1602009000-1602009000@icrsp-rouen.com
SUMMARY:Messe
DESCRIPTION:
URL:https://icrsp-rouen.com/event/messe-185/
CATEGORIES:Messe
END:VEVENT
END:VCALENDAR