BEGIN:VCALENDAR
VERSION:2.0
PRODID:-//Institut du Christ Roi Souverain Prêtre - Église Saint-Patrice - Rouen - ECPv4.9.12//NONSGML v1.0//EN
CALSCALE:GREGORIAN
METHOD:PUBLISH
X-WR-CALNAME:Institut du Christ Roi Souverain Prêtre - Église Saint-Patrice - Rouen
X-ORIGINAL-URL:https://icrsp-rouen.com
X-WR-CALDESC:Évènements pour Institut du Christ Roi Souverain Prêtre - Église Saint-Patrice - Rouen
BEGIN:VTIMEZONE
TZID:Europe/Paris
BEGIN:DAYLIGHT
TZOFFSETFROM:+0100
TZOFFSETTO:+0200
TZNAME:CEST
DTSTART:20200329T010000
END:DAYLIGHT
BEGIN:STANDARD
TZOFFSETFROM:+0200
TZOFFSETTO:+0100
TZNAME:CET
DTSTART:20201025T010000
END:STANDARD
END:VTIMEZONE
BEGIN:VEVENT
DTSTART;VALUE=DATE:20201005
DTEND;VALUE=DATE:20201006
DTSTAMP:20260419T231708
CREATED:20201003T193527Z
LAST-MODIFIED:20201003T193527Z
UID:4055-1601856000-1601942399@icrsp-rouen.com
SUMMARY:Férie
DESCRIPTION:
URL:https://icrsp-rouen.com/event/ferie-30/
CATEGORIES:Messe
END:VEVENT
BEGIN:VEVENT
DTSTART;TZID=Europe/Paris:20201005T110000
DTEND;TZID=Europe/Paris:20201005T110000
DTSTAMP:20260419T231708
CREATED:20201003T193634Z
LAST-MODIFIED:20201003T193634Z
UID:4057-1601895600-1601895600@icrsp-rouen.com
SUMMARY:Messe des saints Placide et ses compagnons\, martyrs
DESCRIPTION:
URL:https://icrsp-rouen.com/event/messe-des-saints-placide-et-ses-compagnons-martyrs/
CATEGORIES:Messe
END:VEVENT
BEGIN:VEVENT
DTSTART;TZID=Europe/Paris:20201005T183000
DTEND;TZID=Europe/Paris:20201005T183000
DTSTAMP:20260419T231708
CREATED:20201003T193924Z
LAST-MODIFIED:20201003T193924Z
UID:4063-1601922600-1601922600@icrsp-rouen.com
SUMMARY:Messe
DESCRIPTION:
URL:https://icrsp-rouen.com/event/messe-183/
CATEGORIES:Messe
END:VEVENT
END:VCALENDAR