BEGIN:VCALENDAR
VERSION:2.0
PRODID:-//Institut du Christ Roi Souverain Prêtre - Église Saint-Patrice - Rouen - ECPv4.9.12//NONSGML v1.0//EN
CALSCALE:GREGORIAN
METHOD:PUBLISH
X-WR-CALNAME:Institut du Christ Roi Souverain Prêtre - Église Saint-Patrice - Rouen
X-ORIGINAL-URL:https://icrsp-rouen.com
X-WR-CALDESC:Évènements pour Institut du Christ Roi Souverain Prêtre - Église Saint-Patrice - Rouen
BEGIN:VTIMEZONE
TZID:Europe/Paris
BEGIN:DAYLIGHT
TZOFFSETFROM:+0100
TZOFFSETTO:+0200
TZNAME:CEST
DTSTART:20200329T010000
END:DAYLIGHT
BEGIN:STANDARD
TZOFFSETFROM:+0200
TZOFFSETTO:+0100
TZNAME:CET
DTSTART:20201025T010000
END:STANDARD
END:VTIMEZONE
BEGIN:VEVENT
DTSTART;VALUE=DATE:20201004
DTEND;VALUE=DATE:20201005
DTSTAMP:20260420T004548
CREATED:20200926T064049Z
LAST-MODIFIED:20200926T064049Z
UID:4040-1601769600-1601855999@icrsp-rouen.com
SUMMARY:Solennité de Notre-Dame du Rosaire\, mémoire du 18ème dimanche après la Pentecôte
DESCRIPTION:
URL:https://icrsp-rouen.com/event/solennite-de-notre-dame-du-rosaire-memoire-du-18eme-dimanche-apres-la-pentecote/
CATEGORIES:Messe
END:VEVENT
BEGIN:VEVENT
DTSTART;TZID=Europe/Paris:20201004T103000
DTEND;TZID=Europe/Paris:20201004T103000
DTSTAMP:20260420T004548
CREATED:20200926T064344Z
LAST-MODIFIED:20200926T064344Z
UID:4046-1601807400-1601807400@icrsp-rouen.com
SUMMARY:Messe chantée
DESCRIPTION:
URL:https://icrsp-rouen.com/event/messe-chantee-37/
CATEGORIES:Messe
END:VEVENT
END:VCALENDAR