BEGIN:VCALENDAR
VERSION:2.0
PRODID:-//Institut du Christ Roi Souverain Prêtre - Église Saint-Patrice - Rouen - ECPv4.9.12//NONSGML v1.0//EN
CALSCALE:GREGORIAN
METHOD:PUBLISH
X-WR-CALNAME:Institut du Christ Roi Souverain Prêtre - Église Saint-Patrice - Rouen
X-ORIGINAL-URL:https://icrsp-rouen.com
X-WR-CALDESC:Évènements pour Institut du Christ Roi Souverain Prêtre - Église Saint-Patrice - Rouen
BEGIN:VTIMEZONE
TZID:Europe/Paris
BEGIN:DAYLIGHT
TZOFFSETFROM:+0100
TZOFFSETTO:+0200
TZNAME:CEST
DTSTART:20200329T010000
END:DAYLIGHT
BEGIN:STANDARD
TZOFFSETFROM:+0200
TZOFFSETTO:+0100
TZNAME:CET
DTSTART:20201025T010000
END:STANDARD
END:VTIMEZONE
BEGIN:VEVENT
DTSTART;VALUE=DATE:20200924
DTEND;VALUE=DATE:20200925
DTSTAMP:20260422T155009
CREATED:20200919T072710Z
LAST-MODIFIED:20200919T072710Z
UID:3919-1600905600-1600991999@icrsp-rouen.com
SUMMARY:Férie
DESCRIPTION:
URL:https://icrsp-rouen.com/event/ferie-28/
CATEGORIES:Messe
END:VEVENT
BEGIN:VEVENT
DTSTART;TZID=Europe/Paris:20200924T121500
DTEND;TZID=Europe/Paris:20200924T121500
DTSTAMP:20260422T155009
CREATED:20200919T073012Z
LAST-MODIFIED:20200919T073012Z
UID:3921-1600949700-1600949700@icrsp-rouen.com
SUMMARY:Messe de Notre-Dame de la Merci
DESCRIPTION:
URL:https://icrsp-rouen.com/event/messe-de-notre-dame-de-la-merci/
CATEGORIES:Messe
END:VEVENT
BEGIN:VEVENT
DTSTART;TZID=Europe/Paris:20200924T183000
DTEND;TZID=Europe/Paris:20200924T183000
DTSTAMP:20260422T155009
CREATED:20200919T073117Z
LAST-MODIFIED:20200919T073117Z
UID:3923-1600972200-1600972200@icrsp-rouen.com
SUMMARY:Messe
DESCRIPTION:
URL:https://icrsp-rouen.com/event/messe-172/
CATEGORIES:Messe
END:VEVENT
END:VCALENDAR