BEGIN:VCALENDAR
VERSION:2.0
PRODID:-//Institut du Christ Roi Souverain Prêtre - Église Saint-Patrice - Rouen - ECPv4.9.12//NONSGML v1.0//EN
CALSCALE:GREGORIAN
METHOD:PUBLISH
X-WR-CALNAME:Institut du Christ Roi Souverain Prêtre - Église Saint-Patrice - Rouen
X-ORIGINAL-URL:https://icrsp-rouen.com
X-WR-CALDESC:Évènements pour Institut du Christ Roi Souverain Prêtre - Église Saint-Patrice - Rouen
BEGIN:VTIMEZONE
TZID:Europe/Paris
BEGIN:DAYLIGHT
TZOFFSETFROM:+0100
TZOFFSETTO:+0200
TZNAME:CEST
DTSTART:20200329T010000
END:DAYLIGHT
BEGIN:STANDARD
TZOFFSETFROM:+0200
TZOFFSETTO:+0100
TZNAME:CET
DTSTART:20201025T010000
END:STANDARD
END:VTIMEZONE
BEGIN:VEVENT
DTSTART;VALUE=DATE:20200923
DTEND;VALUE=DATE:20200924
DTSTAMP:20260422T170705
CREATED:20200919T071311Z
LAST-MODIFIED:20200919T071311Z
UID:3905-1600819200-1600905599@icrsp-rouen.com
SUMMARY:Quatre-Temps de septembre
DESCRIPTION:
URL:https://icrsp-rouen.com/event/quatre-temps-de-septembre/
CATEGORIES:Messe
END:VEVENT
BEGIN:VEVENT
DTSTART;TZID=Europe/Paris:20200923T070000
DTEND;TZID=Europe/Paris:20200923T070000
DTSTAMP:20260422T170705
CREATED:20200919T071633Z
LAST-MODIFIED:20200919T071633Z
UID:3907-1600844400-1600844400@icrsp-rouen.com
SUMMARY:Messe
DESCRIPTION:Suivie du petit-déjeuner au presbytère \n
URL:https://icrsp-rouen.com/event/messe-170/
CATEGORIES:Messe
END:VEVENT
BEGIN:VEVENT
DTSTART;TZID=Europe/Paris:20200923T183000
DTEND;TZID=Europe/Paris:20200923T183000
DTSTAMP:20260422T170705
CREATED:20200919T072212Z
LAST-MODIFIED:20200919T072212Z
UID:3913-1600885800-1600885800@icrsp-rouen.com
SUMMARY:Messe
DESCRIPTION:
URL:https://icrsp-rouen.com/event/messe-171/
CATEGORIES:Messe
END:VEVENT
END:VCALENDAR