BEGIN:VCALENDAR
VERSION:2.0
PRODID:-//Institut du Christ Roi Souverain Prêtre - Église Saint-Patrice - Rouen - ECPv4.9.12//NONSGML v1.0//EN
CALSCALE:GREGORIAN
METHOD:PUBLISH
X-WR-CALNAME:Institut du Christ Roi Souverain Prêtre - Église Saint-Patrice - Rouen
X-ORIGINAL-URL:https://icrsp-rouen.com
X-WR-CALDESC:Évènements pour Institut du Christ Roi Souverain Prêtre - Église Saint-Patrice - Rouen
BEGIN:VTIMEZONE
TZID:Europe/Paris
BEGIN:DAYLIGHT
TZOFFSETFROM:+0100
TZOFFSETTO:+0200
TZNAME:CEST
DTSTART:20200329T010000
END:DAYLIGHT
BEGIN:STANDARD
TZOFFSETFROM:+0200
TZOFFSETTO:+0100
TZNAME:CET
DTSTART:20201025T010000
END:STANDARD
END:VTIMEZONE
BEGIN:VEVENT
DTSTART;VALUE=DATE:20200917
DTEND;VALUE=DATE:20200918
DTSTAMP:20260423T012824
CREATED:20200911T200527Z
LAST-MODIFIED:20200911T200527Z
UID:3831-1600300800-1600387199@icrsp-rouen.com
SUMMARY:Férie
DESCRIPTION:
URL:https://icrsp-rouen.com/event/ferie-27/
CATEGORIES:Messe
END:VEVENT
BEGIN:VEVENT
DTSTART;TZID=Europe/Paris:20200917T121500
DTEND;TZID=Europe/Paris:20200917T121500
DTSTAMP:20260423T012824
CREATED:20200911T200641Z
LAST-MODIFIED:20200911T200641Z
UID:3833-1600344900-1600344900@icrsp-rouen.com
SUMMARY:Messe de l'impression des Stigmates de S. François d'Assise
DESCRIPTION:
URL:https://icrsp-rouen.com/event/messe-de-limpression-des-stigmates-de-s-francois-dassise/
CATEGORIES:Messe
END:VEVENT
BEGIN:VEVENT
DTSTART;TZID=Europe/Paris:20200917T183000
DTEND;TZID=Europe/Paris:20200917T183000
DTSTAMP:20260423T012824
CREATED:20200911T200723Z
LAST-MODIFIED:20200911T200723Z
UID:3835-1600367400-1600367400@icrsp-rouen.com
SUMMARY:Messe
DESCRIPTION:
URL:https://icrsp-rouen.com/event/messe-163/
CATEGORIES:Messe
END:VEVENT
END:VCALENDAR