BEGIN:VCALENDAR
VERSION:2.0
PRODID:-//Institut du Christ Roi Souverain Prêtre - Église Saint-Patrice - Rouen - ECPv4.9.12//NONSGML v1.0//EN
CALSCALE:GREGORIAN
METHOD:PUBLISH
X-WR-CALNAME:Institut du Christ Roi Souverain Prêtre - Église Saint-Patrice - Rouen
X-ORIGINAL-URL:https://icrsp-rouen.com
X-WR-CALDESC:Évènements pour Institut du Christ Roi Souverain Prêtre - Église Saint-Patrice - Rouen
BEGIN:VTIMEZONE
TZID:Europe/Paris
BEGIN:DAYLIGHT
TZOFFSETFROM:+0100
TZOFFSETTO:+0200
TZNAME:CEST
DTSTART:20200329T010000
END:DAYLIGHT
BEGIN:STANDARD
TZOFFSETFROM:+0200
TZOFFSETTO:+0100
TZNAME:CET
DTSTART:20201025T010000
END:STANDARD
END:VTIMEZONE
BEGIN:VEVENT
DTSTART;VALUE=DATE:20200913
DTEND;VALUE=DATE:20200914
DTSTAMP:20260423T071541
CREATED:20200906T125509Z
LAST-MODIFIED:20200906T125509Z
UID:3785-1599955200-1600041599@icrsp-rouen.com
SUMMARY:Quinzième Dimanche après la Pentecôte
DESCRIPTION:
URL:https://icrsp-rouen.com/event/quinzieme-dimanche-apres-la-pentecote/
CATEGORIES:Messe
END:VEVENT
BEGIN:VEVENT
DTSTART;TZID=Europe/Paris:20200913T103000
DTEND;TZID=Europe/Paris:20200913T103000
DTSTAMP:20260423T071541
CREATED:20200906T125755Z
LAST-MODIFIED:20200906T125755Z
UID:3791-1599993000-1599993000@icrsp-rouen.com
SUMMARY:Messe chantée
DESCRIPTION:
URL:https://icrsp-rouen.com/event/messe-chantee-34/
CATEGORIES:Messe
END:VEVENT
END:VCALENDAR