BEGIN:VCALENDAR
VERSION:2.0
PRODID:-//Institut du Christ Roi Souverain Prêtre - Église Saint-Patrice - Rouen - ECPv4.9.12//NONSGML v1.0//EN
CALSCALE:GREGORIAN
METHOD:PUBLISH
X-WR-CALNAME:Institut du Christ Roi Souverain Prêtre - Église Saint-Patrice - Rouen
X-ORIGINAL-URL:https://icrsp-rouen.com
X-WR-CALDESC:Évènements pour Institut du Christ Roi Souverain Prêtre - Église Saint-Patrice - Rouen
BEGIN:VTIMEZONE
TZID:Europe/Paris
BEGIN:DAYLIGHT
TZOFFSETFROM:+0100
TZOFFSETTO:+0200
TZNAME:CEST
DTSTART:20200329T010000
END:DAYLIGHT
BEGIN:STANDARD
TZOFFSETFROM:+0200
TZOFFSETTO:+0100
TZNAME:CET
DTSTART:20201025T010000
END:STANDARD
END:VTIMEZONE
BEGIN:VEVENT
DTSTART;VALUE=DATE:20200911
DTEND;VALUE=DATE:20200912
DTSTAMP:20260423T101149
CREATED:20200906T124949Z
LAST-MODIFIED:20200906T124949Z
UID:3773-1599782400-1599868799@icrsp-rouen.com
SUMMARY:Férie
DESCRIPTION:
URL:https://icrsp-rouen.com/event/ferie-26/
CATEGORIES:Messe
END:VEVENT
BEGIN:VEVENT
DTSTART;TZID=Europe/Paris:20200911T180000
DTEND;TZID=Europe/Paris:20200911T180000
DTSTAMP:20260423T101149
CREATED:20200906T125032Z
LAST-MODIFIED:20200906T125032Z
UID:3775-1599847200-1599847200@icrsp-rouen.com
SUMMARY:Messe
DESCRIPTION:
URL:https://icrsp-rouen.com/event/messe-157/
CATEGORIES:Messe
END:VEVENT
END:VCALENDAR