BEGIN:VCALENDAR
VERSION:2.0
PRODID:-//Institut du Christ Roi Souverain Prêtre - Église Saint-Patrice - Rouen - ECPv4.9.12//NONSGML v1.0//EN
CALSCALE:GREGORIAN
METHOD:PUBLISH
X-WR-CALNAME:Institut du Christ Roi Souverain Prêtre - Église Saint-Patrice - Rouen
X-ORIGINAL-URL:https://icrsp-rouen.com
X-WR-CALDESC:Évènements pour Institut du Christ Roi Souverain Prêtre - Église Saint-Patrice - Rouen
BEGIN:VTIMEZONE
TZID:Europe/Paris
BEGIN:DAYLIGHT
TZOFFSETFROM:+0100
TZOFFSETTO:+0200
TZNAME:CEST
DTSTART:20200329T010000
END:DAYLIGHT
BEGIN:STANDARD
TZOFFSETFROM:+0200
TZOFFSETTO:+0100
TZNAME:CET
DTSTART:20201025T010000
END:STANDARD
END:VTIMEZONE
BEGIN:VEVENT
DTSTART;VALUE=DATE:20200910
DTEND;VALUE=DATE:20200911
DTSTAMP:20260423T114350
CREATED:20200906T124633Z
LAST-MODIFIED:20200906T124633Z
UID:3763-1599696000-1599782399@icrsp-rouen.com
SUMMARY:Saint Nicolas de Tolentino
DESCRIPTION:
URL:https://icrsp-rouen.com/event/saint-nicolas-de-tolentino/
CATEGORIES:Messe
END:VEVENT
BEGIN:VEVENT
DTSTART;TZID=Europe/Paris:20200910T121500
DTEND;TZID=Europe/Paris:20200910T121500
DTSTAMP:20260423T114350
CREATED:20200906T124716Z
LAST-MODIFIED:20200906T124716Z
UID:3765-1599740100-1599740100@icrsp-rouen.com
SUMMARY:Messe
DESCRIPTION:
URL:https://icrsp-rouen.com/event/messe-155/
CATEGORIES:Messe
END:VEVENT
BEGIN:VEVENT
DTSTART;TZID=Europe/Paris:20200910T183000
DTEND;TZID=Europe/Paris:20200910T183000
DTSTAMP:20260423T114350
CREATED:20200906T124757Z
LAST-MODIFIED:20200906T124757Z
UID:3767-1599762600-1599762600@icrsp-rouen.com
SUMMARY:Messe
DESCRIPTION:
URL:https://icrsp-rouen.com/event/messe-156/
CATEGORIES:Messe
END:VEVENT
END:VCALENDAR