BEGIN:VCALENDAR
VERSION:2.0
PRODID:-//Institut du Christ Roi Souverain Prêtre - Église Saint-Patrice - Rouen - ECPv4.9.12//NONSGML v1.0//EN
CALSCALE:GREGORIAN
METHOD:PUBLISH
X-WR-CALNAME:Institut du Christ Roi Souverain Prêtre - Église Saint-Patrice - Rouen
X-ORIGINAL-URL:https://icrsp-rouen.com
X-WR-CALDESC:Évènements pour Institut du Christ Roi Souverain Prêtre - Église Saint-Patrice - Rouen
BEGIN:VTIMEZONE
TZID:Europe/Paris
BEGIN:DAYLIGHT
TZOFFSETFROM:+0100
TZOFFSETTO:+0200
TZNAME:CEST
DTSTART:20200329T010000
END:DAYLIGHT
BEGIN:STANDARD
TZOFFSETFROM:+0200
TZOFFSETTO:+0100
TZNAME:CET
DTSTART:20201025T010000
END:STANDARD
END:VTIMEZONE
BEGIN:VEVENT
DTSTART;VALUE=DATE:20200815
DTEND;VALUE=DATE:20200816
DTSTAMP:20260425T124141
CREATED:20200801T195246Z
LAST-MODIFIED:20200801T195246Z
UID:3671-1597449600-1597535999@icrsp-rouen.com
SUMMARY:Assomption de la Très Sainte Vierge Marie
DESCRIPTION:
URL:https://icrsp-rouen.com/event/assomption-de-la-tres-sainte-vierge-marie/
CATEGORIES:Messe
END:VEVENT
BEGIN:VEVENT
DTSTART;TZID=Europe/Paris:20200815T103000
DTEND;TZID=Europe/Paris:20200815T103000
DTSTAMP:20260425T124141
CREATED:20200801T194054Z
LAST-MODIFIED:20200801T195110Z
UID:3667-1597487400-1597487400@icrsp-rouen.com
SUMMARY:Messe Solennelle
DESCRIPTION:Célébrée par Monseigneur Wach\, prieur général de l’Institut du Christ Roi \n
URL:https://icrsp-rouen.com/event/messe-solennelle-3/
CATEGORIES:Messe
END:VEVENT
END:VCALENDAR