BEGIN:VCALENDAR
VERSION:2.0
PRODID:-//Institut du Christ Roi Souverain Prêtre - Église Saint-Patrice - Rouen - ECPv4.9.12//NONSGML v1.0//EN
CALSCALE:GREGORIAN
METHOD:PUBLISH
X-WR-CALNAME:Institut du Christ Roi Souverain Prêtre - Église Saint-Patrice - Rouen
X-ORIGINAL-URL:https://icrsp-rouen.com
X-WR-CALDESC:Évènements pour Institut du Christ Roi Souverain Prêtre - Église Saint-Patrice - Rouen
BEGIN:VTIMEZONE
TZID:Europe/Paris
BEGIN:DAYLIGHT
TZOFFSETFROM:+0100
TZOFFSETTO:+0200
TZNAME:CEST
DTSTART:20200329T010000
END:DAYLIGHT
BEGIN:STANDARD
TZOFFSETFROM:+0200
TZOFFSETTO:+0100
TZNAME:CET
DTSTART:20201025T010000
END:STANDARD
END:VTIMEZONE
BEGIN:VEVENT
DTSTART;VALUE=DATE:20200311
DTEND;VALUE=DATE:20200312
DTSTAMP:20260425T024219
CREATED:20200306T121813Z
LAST-MODIFIED:20200306T121813Z
UID:2733-1583884800-1583971199@icrsp-rouen.com
SUMMARY:Férie
DESCRIPTION:
URL:https://icrsp-rouen.com/event/ferie-17/
CATEGORIES:Messe
END:VEVENT
BEGIN:VEVENT
DTSTART;TZID=Europe/Paris:20200311T070000
DTEND;TZID=Europe/Paris:20200311T070000
DTSTAMP:20260425T024219
CREATED:20200306T121923Z
LAST-MODIFIED:20200306T121923Z
UID:2735-1583910000-1583910000@icrsp-rouen.com
SUMMARY:Messe
DESCRIPTION:
URL:https://icrsp-rouen.com/event/messe-91/
CATEGORIES:Messe
END:VEVENT
BEGIN:VEVENT
DTSTART;TZID=Europe/Paris:20200311T183000
DTEND;TZID=Europe/Paris:20200311T183000
DTSTAMP:20260425T024219
CREATED:20200306T122218Z
LAST-MODIFIED:20200306T122218Z
UID:2741-1583951400-1583951400@icrsp-rouen.com
SUMMARY:Messe
DESCRIPTION:
URL:https://icrsp-rouen.com/event/messe-92/
CATEGORIES:Messe
END:VEVENT
END:VCALENDAR