BEGIN:VCALENDAR
VERSION:2.0
PRODID:-//Institut du Christ Roi Souverain Prêtre - Église Saint-Patrice - Rouen - ECPv4.9.12//NONSGML v1.0//EN
CALSCALE:GREGORIAN
METHOD:PUBLISH
X-WR-CALNAME:Institut du Christ Roi Souverain Prêtre - Église Saint-Patrice - Rouen
X-ORIGINAL-URL:https://icrsp-rouen.com
X-WR-CALDESC:Évènements pour Institut du Christ Roi Souverain Prêtre - Église Saint-Patrice - Rouen
BEGIN:VTIMEZONE
TZID:Europe/Paris
BEGIN:DAYLIGHT
TZOFFSETFROM:+0100
TZOFFSETTO:+0200
TZNAME:CEST
DTSTART:20200329T010000
END:DAYLIGHT
BEGIN:STANDARD
TZOFFSETFROM:+0200
TZOFFSETTO:+0100
TZNAME:CET
DTSTART:20201025T010000
END:STANDARD
END:VTIMEZONE
BEGIN:VEVENT
DTSTART;VALUE=DATE:20200310
DTEND;VALUE=DATE:20200311
DTSTAMP:20260425T013218
CREATED:20200306T121141Z
LAST-MODIFIED:20200306T121141Z
UID:2721-1583798400-1583884799@icrsp-rouen.com
SUMMARY:Férie
DESCRIPTION:
URL:https://icrsp-rouen.com/event/ferie-16/
CATEGORIES:Messe
END:VEVENT
BEGIN:VEVENT
DTSTART;TZID=Europe/Paris:20200310T121500
DTEND;TZID=Europe/Paris:20200310T121500
DTSTAMP:20260425T013218
CREATED:20200306T121338Z
LAST-MODIFIED:20200306T121338Z
UID:2723-1583842500-1583842500@icrsp-rouen.com
SUMMARY:Messe
DESCRIPTION:Mémoire des saints quarante martyrs de Sébaste \n
URL:https://icrsp-rouen.com/event/messe-89/
CATEGORIES:Messe
END:VEVENT
BEGIN:VEVENT
DTSTART;TZID=Europe/Paris:20200310T183000
DTEND;TZID=Europe/Paris:20200310T183000
DTSTAMP:20260425T013218
CREATED:20200306T121433Z
LAST-MODIFIED:20200306T121433Z
UID:2725-1583865000-1583865000@icrsp-rouen.com
SUMMARY:Messe
DESCRIPTION:
URL:https://icrsp-rouen.com/event/messe-90/
CATEGORIES:Messe
END:VEVENT
END:VCALENDAR