BEGIN:VCALENDAR
VERSION:2.0
PRODID:-//Institut du Christ Roi Souverain Prêtre - Église Saint-Patrice - Rouen - ECPv4.9.12//NONSGML v1.0//EN
CALSCALE:GREGORIAN
METHOD:PUBLISH
X-WR-CALNAME:Institut du Christ Roi Souverain Prêtre - Église Saint-Patrice - Rouen
X-ORIGINAL-URL:https://icrsp-rouen.com
X-WR-CALDESC:Évènements pour Institut du Christ Roi Souverain Prêtre - Église Saint-Patrice - Rouen
BEGIN:VTIMEZONE
TZID:Europe/Paris
BEGIN:DAYLIGHT
TZOFFSETFROM:+0100
TZOFFSETTO:+0200
TZNAME:CEST
DTSTART:20200329T010000
END:DAYLIGHT
BEGIN:STANDARD
TZOFFSETFROM:+0200
TZOFFSETTO:+0100
TZNAME:CET
DTSTART:20201025T010000
END:STANDARD
END:VTIMEZONE
BEGIN:VEVENT
DTSTART;VALUE=DATE:20200304
DTEND;VALUE=DATE:20200305
DTSTAMP:20260424T184056
CREATED:20200228T081554Z
LAST-MODIFIED:20200228T081554Z
UID:2623-1583280000-1583366399@icrsp-rouen.com
SUMMARY:Mercredi des Quatre-temps de Carême
DESCRIPTION:
URL:https://icrsp-rouen.com/event/mercredi-des-quatre-temps-de-careme/
CATEGORIES:Messe
END:VEVENT
BEGIN:VEVENT
DTSTART;TZID=Europe/Paris:20200304T070000
DTEND;TZID=Europe/Paris:20200304T070000
DTSTAMP:20260424T184056
CREATED:20200228T081646Z
LAST-MODIFIED:20200228T081646Z
UID:2625-1583305200-1583305200@icrsp-rouen.com
SUMMARY:Messe
DESCRIPTION:
URL:https://icrsp-rouen.com/event/messe-84/
CATEGORIES:Messe
END:VEVENT
BEGIN:VEVENT
DTSTART;TZID=Europe/Paris:20200304T183000
DTEND;TZID=Europe/Paris:20200304T183000
DTSTAMP:20260424T184056
CREATED:20200228T081939Z
LAST-MODIFIED:20200228T081939Z
UID:2632-1583346600-1583346600@icrsp-rouen.com
SUMMARY:Messe
DESCRIPTION:
URL:https://icrsp-rouen.com/event/messe-85/
CATEGORIES:Messe
END:VEVENT
END:VCALENDAR