BEGIN:VCALENDAR
VERSION:2.0
PRODID:-//Institut du Christ Roi Souverain Prêtre - Église Saint-Patrice - Rouen - ECPv4.9.12//NONSGML v1.0//EN
CALSCALE:GREGORIAN
METHOD:PUBLISH
X-WR-CALNAME:Institut du Christ Roi Souverain Prêtre - Église Saint-Patrice - Rouen
X-ORIGINAL-URL:https://icrsp-rouen.com
X-WR-CALDESC:Évènements pour Institut du Christ Roi Souverain Prêtre - Église Saint-Patrice - Rouen
BEGIN:VTIMEZONE
TZID:Europe/Paris
BEGIN:DAYLIGHT
TZOFFSETFROM:+0100
TZOFFSETTO:+0200
TZNAME:CEST
DTSTART:20200329T010000
END:DAYLIGHT
BEGIN:STANDARD
TZOFFSETFROM:+0200
TZOFFSETTO:+0100
TZNAME:CET
DTSTART:20201025T010000
END:STANDARD
END:VTIMEZONE
BEGIN:VEVENT
DTSTART;VALUE=DATE:20200226
DTEND;VALUE=DATE:20200227
DTSTAMP:20260423T173935
CREATED:20200214T123627Z
LAST-MODIFIED:20200214T123627Z
UID:2544-1582675200-1582761599@icrsp-rouen.com
SUMMARY:Mercredi des Cendres
DESCRIPTION:
URL:https://icrsp-rouen.com/event/mercredi-des-cendres/
CATEGORIES:Messe
END:VEVENT
BEGIN:VEVENT
DTSTART;TZID=Europe/Paris:20200226T183000
DTEND;TZID=Europe/Paris:20200226T183000
DTSTAMP:20260423T173935
CREATED:20200214T123914Z
LAST-MODIFIED:20200214T123914Z
UID:2550-1582741800-1582741800@icrsp-rouen.com
SUMMARY:Bénédiction et imposition des Cendres\, puis messe chantée
DESCRIPTION:
URL:https://icrsp-rouen.com/event/benediction-et-imposition-des-cendres-puis-messe-chantee/
CATEGORIES:Messe
END:VEVENT
END:VCALENDAR