BEGIN:VCALENDAR
VERSION:2.0
PRODID:-//Institut du Christ Roi Souverain Prêtre - Église Saint-Patrice - Rouen - ECPv4.9.12//NONSGML v1.0//EN
CALSCALE:GREGORIAN
METHOD:PUBLISH
X-WR-CALNAME:Institut du Christ Roi Souverain Prêtre - Église Saint-Patrice - Rouen
X-ORIGINAL-URL:https://icrsp-rouen.com
X-WR-CALDESC:Évènements pour Institut du Christ Roi Souverain Prêtre - Église Saint-Patrice - Rouen
BEGIN:VTIMEZONE
TZID:Europe/Paris
BEGIN:DAYLIGHT
TZOFFSETFROM:+0100
TZOFFSETTO:+0200
TZNAME:CEST
DTSTART:20200329T010000
END:DAYLIGHT
BEGIN:STANDARD
TZOFFSETFROM:+0200
TZOFFSETTO:+0100
TZNAME:CET
DTSTART:20201025T010000
END:STANDARD
END:VTIMEZONE
BEGIN:VEVENT
DTSTART;VALUE=DATE:20200225
DTEND;VALUE=DATE:20200226
DTSTAMP:20260423T162259
CREATED:20200214T123446Z
LAST-MODIFIED:20200214T123446Z
UID:2540-1582588800-1582675199@icrsp-rouen.com
SUMMARY:Saint Matthias\, apôtre
DESCRIPTION:
URL:https://icrsp-rouen.com/event/saint-matthias-apotre/
CATEGORIES:Messe
END:VEVENT
BEGIN:VEVENT
DTSTART;TZID=Europe/Paris:20200225T121500
DTEND;TZID=Europe/Paris:20200225T121500
DTSTAMP:20260423T162259
CREATED:20200214T123524Z
LAST-MODIFIED:20200214T123524Z
UID:2542-1582632900-1582632900@icrsp-rouen.com
SUMMARY:Messe
DESCRIPTION:
URL:https://icrsp-rouen.com/event/messe-77/
CATEGORIES:Messe
END:VEVENT
END:VCALENDAR