BEGIN:VCALENDAR
VERSION:2.0
PRODID:-//Institut du Christ Roi Souverain Prêtre - Église Saint-Patrice - Rouen - ECPv4.9.12//NONSGML v1.0//EN
CALSCALE:GREGORIAN
METHOD:PUBLISH
X-WR-CALNAME:Institut du Christ Roi Souverain Prêtre - Église Saint-Patrice - Rouen
X-ORIGINAL-URL:https://icrsp-rouen.com
X-WR-CALDESC:Évènements pour Institut du Christ Roi Souverain Prêtre - Église Saint-Patrice - Rouen
BEGIN:VTIMEZONE
TZID:Europe/Paris
BEGIN:DAYLIGHT
TZOFFSETFROM:+0100
TZOFFSETTO:+0200
TZNAME:CEST
DTSTART:20200329T010000
END:DAYLIGHT
BEGIN:STANDARD
TZOFFSETFROM:+0200
TZOFFSETTO:+0100
TZNAME:CET
DTSTART:20201025T010000
END:STANDARD
END:VTIMEZONE
BEGIN:VEVENT
DTSTART;VALUE=DATE:20200223
DTEND;VALUE=DATE:20200224
DTSTAMP:20260423T130924
CREATED:20200214T122641Z
LAST-MODIFIED:20200214T122641Z
UID:2528-1582416000-1582502399@icrsp-rouen.com
SUMMARY:Dimanche de la Quinquagésime
DESCRIPTION:
URL:https://icrsp-rouen.com/event/dimanche-de-la-quinquagesime/
CATEGORIES:Messe
END:VEVENT
BEGIN:VEVENT
DTSTART;TZID=Europe/Paris:20200223T103000
DTEND;TZID=Europe/Paris:20200223T103000
DTSTAMP:20260423T130924
CREATED:20200214T122915Z
LAST-MODIFIED:20200214T122915Z
UID:2534-1582453800-1582453800@icrsp-rouen.com
SUMMARY:Messe chantée
DESCRIPTION:
URL:https://icrsp-rouen.com/event/messe-chantee-12/
CATEGORIES:Messe
END:VEVENT
END:VCALENDAR