BEGIN:VCALENDAR
VERSION:2.0
PRODID:-//Institut du Christ Roi Souverain Prêtre - Église Saint-Patrice - Rouen - ECPv4.9.12//NONSGML v1.0//EN
CALSCALE:GREGORIAN
METHOD:PUBLISH
X-WR-CALNAME:Institut du Christ Roi Souverain Prêtre - Église Saint-Patrice - Rouen
X-ORIGINAL-URL:https://icrsp-rouen.com
X-WR-CALDESC:Évènements pour Institut du Christ Roi Souverain Prêtre - Église Saint-Patrice - Rouen
BEGIN:VTIMEZONE
TZID:Europe/Paris
BEGIN:DAYLIGHT
TZOFFSETFROM:+0100
TZOFFSETTO:+0200
TZNAME:CEST
DTSTART:20200329T010000
END:DAYLIGHT
BEGIN:STANDARD
TZOFFSETFROM:+0200
TZOFFSETTO:+0100
TZNAME:CET
DTSTART:20201025T010000
END:STANDARD
END:VTIMEZONE
BEGIN:VEVENT
DTSTART;VALUE=DATE:20200220
DTEND;VALUE=DATE:20200221
DTSTAMP:20260423T090536
CREATED:20200214T121744Z
LAST-MODIFIED:20200214T121744Z
UID:2512-1582156800-1582243199@icrsp-rouen.com
SUMMARY:Férie
DESCRIPTION:
URL:https://icrsp-rouen.com/event/ferie-7/
CATEGORIES:Messe
END:VEVENT
BEGIN:VEVENT
DTSTART;TZID=Europe/Paris:20200220T121500
DTEND;TZID=Europe/Paris:20200220T121500
DTSTAMP:20260423T090536
CREATED:20200214T121902Z
LAST-MODIFIED:20200214T121902Z
UID:2514-1582200900-1582200900@icrsp-rouen.com
SUMMARY:Messe votive du Saint Sacrement de l'Eucharistie
DESCRIPTION:
URL:https://icrsp-rouen.com/event/messe-votive-du-saint-sacrement-de-leucharistie/
CATEGORIES:Messe
END:VEVENT
END:VCALENDAR