BEGIN:VCALENDAR
VERSION:2.0
PRODID:-//Institut du Christ Roi Souverain Prêtre - Église Saint-Patrice - Rouen - ECPv4.9.12//NONSGML v1.0//EN
CALSCALE:GREGORIAN
METHOD:PUBLISH
X-WR-CALNAME:Institut du Christ Roi Souverain Prêtre - Église Saint-Patrice - Rouen
X-ORIGINAL-URL:https://icrsp-rouen.com
X-WR-CALDESC:Évènements pour Institut du Christ Roi Souverain Prêtre - Église Saint-Patrice - Rouen
BEGIN:VTIMEZONE
TZID:Europe/Paris
BEGIN:DAYLIGHT
TZOFFSETFROM:+0100
TZOFFSETTO:+0200
TZNAME:CEST
DTSTART:20200329T010000
END:DAYLIGHT
BEGIN:STANDARD
TZOFFSETFROM:+0200
TZOFFSETTO:+0100
TZNAME:CET
DTSTART:20201025T010000
END:STANDARD
END:VTIMEZONE
BEGIN:VEVENT
DTSTART;VALUE=DATE:20200217
DTEND;VALUE=DATE:20200218
DTSTAMP:20260423T043401
CREATED:20200214T120658Z
LAST-MODIFIED:20200214T120658Z
UID:2490-1581897600-1581983999@icrsp-rouen.com
SUMMARY:Férie
DESCRIPTION:
URL:https://icrsp-rouen.com/event/ferie-4/
CATEGORIES:Messe
END:VEVENT
BEGIN:VEVENT
DTSTART;TZID=Europe/Paris:20200217T070000
DTEND;TZID=Europe/Paris:20200217T070000
DTSTAMP:20260423T043401
CREATED:20200214T120822Z
LAST-MODIFIED:20200214T120822Z
UID:2492-1581922800-1581922800@icrsp-rouen.com
SUMMARY:Messe votive de la Sainte Trinité
DESCRIPTION:Suivie du petit-déjeuner au presbytère \n
URL:https://icrsp-rouen.com/event/messe-votive-de-la-sainte-trinite/
CATEGORIES:Messe
END:VEVENT
BEGIN:VEVENT
DTSTART;TZID=Europe/Paris:20200217T183000
DTEND;TZID=Europe/Paris:20200217T183000
DTSTAMP:20260423T043401
CREATED:20200214T120925Z
LAST-MODIFIED:20200214T120925Z
UID:2494-1581964200-1581964200@icrsp-rouen.com
SUMMARY:Messe votive de la Sainte Trinité
DESCRIPTION:
URL:https://icrsp-rouen.com/event/messe-votive-de-la-sainte-trinite-2/
CATEGORIES:Messe
END:VEVENT
END:VCALENDAR