BEGIN:VCALENDAR
VERSION:2.0
PRODID:-//Institut du Christ Roi Souverain Prêtre - Église Saint-Patrice - Rouen - ECPv4.9.12//NONSGML v1.0//EN
CALSCALE:GREGORIAN
METHOD:PUBLISH
X-WR-CALNAME:Institut du Christ Roi Souverain Prêtre - Église Saint-Patrice - Rouen
X-ORIGINAL-URL:https://icrsp-rouen.com
X-WR-CALDESC:Évènements pour Institut du Christ Roi Souverain Prêtre - Église Saint-Patrice - Rouen
BEGIN:VTIMEZONE
TZID:Europe/Paris
BEGIN:DAYLIGHT
TZOFFSETFROM:+0100
TZOFFSETTO:+0200
TZNAME:CEST
DTSTART:20200329T010000
END:DAYLIGHT
BEGIN:STANDARD
TZOFFSETFROM:+0200
TZOFFSETTO:+0100
TZNAME:CET
DTSTART:20201025T010000
END:STANDARD
END:VTIMEZONE
BEGIN:VEVENT
DTSTART;VALUE=DATE:20200212
DTEND;VALUE=DATE:20200213
DTSTAMP:20260422T212720
CREATED:20200207T085306Z
LAST-MODIFIED:20200207T085306Z
UID:2436-1581465600-1581551999@icrsp-rouen.com
SUMMARY:Sept saints fondateurs\, Servites de Marie
DESCRIPTION:
URL:https://icrsp-rouen.com/event/sept-saints-fondateurs-servites-de-marie/
CATEGORIES:Messe
END:VEVENT
BEGIN:VEVENT
DTSTART;TZID=Europe/Paris:20200212T070000
DTEND;TZID=Europe/Paris:20200212T070000
DTSTAMP:20260422T212720
CREATED:20200207T085358Z
LAST-MODIFIED:20200207T085358Z
UID:2438-1581490800-1581490800@icrsp-rouen.com
SUMMARY:Messe
DESCRIPTION:
URL:https://icrsp-rouen.com/event/messe-73/
CATEGORIES:Messe
END:VEVENT
BEGIN:VEVENT
DTSTART;TZID=Europe/Paris:20200212T183000
DTEND;TZID=Europe/Paris:20200212T183000
DTSTAMP:20260422T212720
CREATED:20200207T085640Z
LAST-MODIFIED:20200207T085640Z
UID:2444-1581532200-1581532200@icrsp-rouen.com
SUMMARY:Messe
DESCRIPTION:
URL:https://icrsp-rouen.com/event/messe-74/
CATEGORIES:Messe
END:VEVENT
END:VCALENDAR