BEGIN:VCALENDAR
VERSION:2.0
PRODID:-//Institut du Christ Roi Souverain Prêtre - Église Saint-Patrice - Rouen - ECPv4.9.12//NONSGML v1.0//EN
CALSCALE:GREGORIAN
METHOD:PUBLISH
X-WR-CALNAME:Institut du Christ Roi Souverain Prêtre - Église Saint-Patrice - Rouen
X-ORIGINAL-URL:https://icrsp-rouen.com
X-WR-CALDESC:Évènements pour Institut du Christ Roi Souverain Prêtre - Église Saint-Patrice - Rouen
BEGIN:VTIMEZONE
TZID:Europe/Paris
BEGIN:DAYLIGHT
TZOFFSETFROM:+0100
TZOFFSETTO:+0200
TZNAME:CEST
DTSTART:20200329T010000
END:DAYLIGHT
BEGIN:STANDARD
TZOFFSETFROM:+0200
TZOFFSETTO:+0100
TZNAME:CET
DTSTART:20201025T010000
END:STANDARD
END:VTIMEZONE
BEGIN:VEVENT
DTSTART;VALUE=DATE:20200206
DTEND;VALUE=DATE:20200207
DTSTAMP:20260422T132636
CREATED:20200131T090118Z
LAST-MODIFIED:20200131T090118Z
UID:2377-1580947200-1581033599@icrsp-rouen.com
SUMMARY:Saint Tite\, évêque et confesseur ( 1er du mois)
DESCRIPTION:
URL:https://icrsp-rouen.com/event/saint-tite-eveque-et-confesseur-1er-du-mois/
CATEGORIES:Messe
END:VEVENT
BEGIN:VEVENT
DTSTART;TZID=Europe/Paris:20200206T121500
DTEND;TZID=Europe/Paris:20200206T121500
DTSTAMP:20260422T132636
CREATED:20200131T090256Z
LAST-MODIFIED:20200131T090256Z
UID:2379-1580991300-1580991300@icrsp-rouen.com
SUMMARY:Messe votive de NSJC\, éternel et Souverain Prêtre
DESCRIPTION:
URL:https://icrsp-rouen.com/event/messe-votive-de-nsjc-eternel-et-souverain-pretre/
CATEGORIES:Messe
END:VEVENT
BEGIN:VEVENT
DTSTART;TZID=Europe/Paris:20200206T183000
DTEND;TZID=Europe/Paris:20200206T183000
DTSTAMP:20260422T132636
CREATED:20200131T090354Z
LAST-MODIFIED:20200131T090354Z
UID:2381-1581013800-1581013800@icrsp-rouen.com
SUMMARY:Messe votive de NSJC\, éternel et Souverain Prêtre
DESCRIPTION:
URL:https://icrsp-rouen.com/event/messe-votive-de-nsjc-eternel-et-souverain-pretre-2/
CATEGORIES:Messe
END:VEVENT
END:VCALENDAR