BEGIN:VCALENDAR
VERSION:2.0
PRODID:-//Institut du Christ Roi Souverain Prêtre - Église Saint-Patrice - Rouen - ECPv4.9.12//NONSGML v1.0//EN
CALSCALE:GREGORIAN
METHOD:PUBLISH
X-WR-CALNAME:Institut du Christ Roi Souverain Prêtre - Église Saint-Patrice - Rouen
X-ORIGINAL-URL:https://icrsp-rouen.com
X-WR-CALDESC:Évènements pour Institut du Christ Roi Souverain Prêtre - Église Saint-Patrice - Rouen
BEGIN:VTIMEZONE
TZID:Europe/Paris
BEGIN:DAYLIGHT
TZOFFSETFROM:+0100
TZOFFSETTO:+0200
TZNAME:CEST
DTSTART:20200329T010000
END:DAYLIGHT
BEGIN:STANDARD
TZOFFSETFROM:+0200
TZOFFSETTO:+0100
TZNAME:CET
DTSTART:20201025T010000
END:STANDARD
END:VTIMEZONE
BEGIN:VEVENT
DTSTART;VALUE=DATE:20200205
DTEND;VALUE=DATE:20200206
DTSTAMP:20260422T115814
CREATED:20200131T084935Z
LAST-MODIFIED:20200131T084935Z
UID:2363-1580860800-1580947199@icrsp-rouen.com
SUMMARY:Sainte Agathe\, vierge et martyre
DESCRIPTION:
URL:https://icrsp-rouen.com/event/sainte-agathe-vierge-et-martyre/
CATEGORIES:Messe
END:VEVENT
BEGIN:VEVENT
DTSTART;TZID=Europe/Paris:20200205T070000
DTEND;TZID=Europe/Paris:20200205T070000
DTSTAMP:20260422T115814
CREATED:20200131T085150Z
LAST-MODIFIED:20200131T085150Z
UID:2365-1580886000-1580886000@icrsp-rouen.com
SUMMARY:Messe
DESCRIPTION:
URL:https://icrsp-rouen.com/event/messe-67/
CATEGORIES:Messe
END:VEVENT
BEGIN:VEVENT
DTSTART;TZID=Europe/Paris:20200205T183000
DTEND;TZID=Europe/Paris:20200205T183000
DTSTAMP:20260422T115814
CREATED:20200131T085804Z
LAST-MODIFIED:20200131T085804Z
UID:2371-1580927400-1580927400@icrsp-rouen.com
SUMMARY:Messe
DESCRIPTION:
URL:https://icrsp-rouen.com/event/messe-68/
CATEGORIES:Messe
END:VEVENT
END:VCALENDAR