BEGIN:VCALENDAR
VERSION:2.0
PRODID:-//Institut du Christ Roi Souverain Prêtre - Église Saint-Patrice - Rouen - ECPv4.9.12//NONSGML v1.0//EN
CALSCALE:GREGORIAN
METHOD:PUBLISH
X-WR-CALNAME:Institut du Christ Roi Souverain Prêtre - Église Saint-Patrice - Rouen
X-ORIGINAL-URL:https://icrsp-rouen.com
X-WR-CALDESC:Évènements pour Institut du Christ Roi Souverain Prêtre - Église Saint-Patrice - Rouen
BEGIN:VTIMEZONE
TZID:Europe/Paris
BEGIN:DAYLIGHT
TZOFFSETFROM:+0100
TZOFFSETTO:+0200
TZNAME:CEST
DTSTART:20200329T010000
END:DAYLIGHT
BEGIN:STANDARD
TZOFFSETFROM:+0200
TZOFFSETTO:+0100
TZNAME:CET
DTSTART:20201025T010000
END:STANDARD
END:VTIMEZONE
BEGIN:VEVENT
DTSTART;VALUE=DATE:20200203
DTEND;VALUE=DATE:20200204
DTSTAMP:20260422T085132
CREATED:20200131T083535Z
LAST-MODIFIED:20200131T083535Z
UID:2343-1580688000-1580774399@icrsp-rouen.com
SUMMARY:Férie
DESCRIPTION:
URL:https://icrsp-rouen.com/event/ferie/
CATEGORIES:Messe
END:VEVENT
BEGIN:VEVENT
DTSTART;TZID=Europe/Paris:20200203T070000
DTEND;TZID=Europe/Paris:20200203T070000
DTSTAMP:20260422T085132
CREATED:20200131T083802Z
LAST-MODIFIED:20200131T083802Z
UID:2345-1580713200-1580713200@icrsp-rouen.com
SUMMARY:Messe de Saint Blaise\, évêque et martyr
DESCRIPTION:Suivie de la bénédiction des gorges et du petit-déjeuner au presbytère \n
URL:https://icrsp-rouen.com/event/messe-de-saint-blaise-eveque-et-martyr/
CATEGORIES:Messe
END:VEVENT
BEGIN:VEVENT
DTSTART;TZID=Europe/Paris:20200203T183000
DTEND;TZID=Europe/Paris:20200203T183000
DTSTAMP:20260422T085132
CREATED:20200131T084217Z
LAST-MODIFIED:20200131T084217Z
UID:2351-1580754600-1580754600@icrsp-rouen.com
SUMMARY:Messe et bénédiction des gorges
DESCRIPTION:
URL:https://icrsp-rouen.com/event/messe-et-benediction-des-gorges/
CATEGORIES:Messe
END:VEVENT
END:VCALENDAR