BEGIN:VCALENDAR
VERSION:2.0
PRODID:-//Institut du Christ Roi Souverain Prêtre - Église Saint-Patrice - Rouen - ECPv4.9.12//NONSGML v1.0//EN
CALSCALE:GREGORIAN
METHOD:PUBLISH
X-WR-CALNAME:Institut du Christ Roi Souverain Prêtre - Église Saint-Patrice - Rouen
X-ORIGINAL-URL:https://icrsp-rouen.com
X-WR-CALDESC:Évènements pour Institut du Christ Roi Souverain Prêtre - Église Saint-Patrice - Rouen
BEGIN:VTIMEZONE
TZID:Europe/Paris
BEGIN:DAYLIGHT
TZOFFSETFROM:+0100
TZOFFSETTO:+0200
TZNAME:CEST
DTSTART:20200329T010000
END:DAYLIGHT
BEGIN:STANDARD
TZOFFSETFROM:+0200
TZOFFSETTO:+0100
TZNAME:CET
DTSTART:20201025T010000
END:STANDARD
END:VTIMEZONE
BEGIN:VEVENT
DTSTART;VALUE=DATE:20200202
DTEND;VALUE=DATE:20200203
DTSTAMP:20260420T073838
CREATED:20200124T155722Z
LAST-MODIFIED:20200124T155722Z
UID:2328-1580601600-1580687999@icrsp-rouen.com
SUMMARY:Présentation de Notre-Seigneur et Purification de la T.Ste Vierge
DESCRIPTION:
URL:https://icrsp-rouen.com/event/presentation-de-notre-seigneur-et-purification-de-la-t-ste-vierge/
CATEGORIES:Messe
END:VEVENT
BEGIN:VEVENT
DTSTART;TZID=Europe/Paris:20200202T103000
DTEND;TZID=Europe/Paris:20200202T103000
DTSTAMP:20260420T073838
CREATED:20200124T160247Z
LAST-MODIFIED:20200124T160247Z
UID:2334-1580639400-1580639400@icrsp-rouen.com
SUMMARY:Bénédiction des cierges\, procession et messe chantée
DESCRIPTION:
URL:https://icrsp-rouen.com/event/benediction-des-cierges-procession-et-messe-chantee/
CATEGORIES:Messe
END:VEVENT
END:VCALENDAR