BEGIN:VCALENDAR
VERSION:2.0
PRODID:-//Institut du Christ Roi Souverain Prêtre - Église Saint-Patrice - Rouen - ECPv4.9.12//NONSGML v1.0//EN
CALSCALE:GREGORIAN
METHOD:PUBLISH
X-WR-CALNAME:Institut du Christ Roi Souverain Prêtre - Église Saint-Patrice - Rouen
X-ORIGINAL-URL:https://icrsp-rouen.com
X-WR-CALDESC:Évènements pour Institut du Christ Roi Souverain Prêtre - Église Saint-Patrice - Rouen
BEGIN:VTIMEZONE
TZID:Europe/Paris
BEGIN:DAYLIGHT
TZOFFSETFROM:+0100
TZOFFSETTO:+0200
TZNAME:CEST
DTSTART:20200329T010000
END:DAYLIGHT
BEGIN:STANDARD
TZOFFSETFROM:+0200
TZOFFSETTO:+0100
TZNAME:CET
DTSTART:20201025T010000
END:STANDARD
END:VTIMEZONE
BEGIN:VEVENT
DTSTART;VALUE=DATE:20200128
DTEND;VALUE=DATE:20200129
DTSTAMP:20260420T000053
CREATED:20200124T153124Z
LAST-MODIFIED:20200124T153124Z
UID:2276-1580169600-1580255999@icrsp-rouen.com
SUMMARY:Saint Pierre Nolasque\, confesseur
DESCRIPTION:
URL:https://icrsp-rouen.com/event/saint-pierre-nolasque-confesseur/
CATEGORIES:Messe
END:VEVENT
BEGIN:VEVENT
DTSTART;TZID=Europe/Paris:20200128T121500
DTEND;TZID=Europe/Paris:20200128T121500
DTSTAMP:20260420T000053
CREATED:20200124T153223Z
LAST-MODIFIED:20200124T153223Z
UID:2278-1580213700-1580213700@icrsp-rouen.com
SUMMARY:Messe
DESCRIPTION:
URL:https://icrsp-rouen.com/event/messe-58/
CATEGORIES:Messe
END:VEVENT
BEGIN:VEVENT
DTSTART;TZID=Europe/Paris:20200128T183000
DTEND;TZID=Europe/Paris:20200128T183000
DTSTAMP:20260420T000053
CREATED:20200124T153313Z
LAST-MODIFIED:20200124T153313Z
UID:2280-1580236200-1580236200@icrsp-rouen.com
SUMMARY:Messe
DESCRIPTION:
URL:https://icrsp-rouen.com/event/messe-59/
CATEGORIES:Messe
END:VEVENT
END:VCALENDAR