BEGIN:VCALENDAR
VERSION:2.0
PRODID:-//Institut du Christ Roi Souverain Prêtre - Église Saint-Patrice - Rouen - ECPv4.9.12//NONSGML v1.0//EN
CALSCALE:GREGORIAN
METHOD:PUBLISH
X-WR-CALNAME:Institut du Christ Roi Souverain Prêtre - Église Saint-Patrice - Rouen
X-ORIGINAL-URL:https://icrsp-rouen.com
X-WR-CALDESC:Évènements pour Institut du Christ Roi Souverain Prêtre - Église Saint-Patrice - Rouen
BEGIN:VTIMEZONE
TZID:Europe/Paris
BEGIN:DAYLIGHT
TZOFFSETFROM:+0100
TZOFFSETTO:+0200
TZNAME:CEST
DTSTART:20200329T010000
END:DAYLIGHT
BEGIN:STANDARD
TZOFFSETFROM:+0200
TZOFFSETTO:+0100
TZNAME:CET
DTSTART:20201025T010000
END:STANDARD
END:VTIMEZONE
BEGIN:VEVENT
DTSTART;VALUE=DATE:20200127
DTEND;VALUE=DATE:20200128
DTSTAMP:20260419T221919
CREATED:20200124T152232Z
LAST-MODIFIED:20200124T152232Z
UID:2260-1580083200-1580169599@icrsp-rouen.com
SUMMARY:Saint Jean Chrysostome\, évêque\, conf.et docteur de l'Eglise
DESCRIPTION:
URL:https://icrsp-rouen.com/event/saint-jean-chrysostome-eveque-conf-et-docteur-de-leglise/
CATEGORIES:Messe
END:VEVENT
BEGIN:VEVENT
DTSTART;TZID=Europe/Paris:20200127T070000
DTEND;TZID=Europe/Paris:20200127T070000
DTSTAMP:20260419T221919
CREATED:20200124T152352Z
LAST-MODIFIED:20200124T152352Z
UID:2262-1580108400-1580108400@icrsp-rouen.com
SUMMARY:Messe
DESCRIPTION:Suivie du petit-déjeuner au presbytère \n
URL:https://icrsp-rouen.com/event/messe-56/
CATEGORIES:Messe
END:VEVENT
BEGIN:VEVENT
DTSTART;TZID=Europe/Paris:20200127T183000
DTEND;TZID=Europe/Paris:20200127T183000
DTSTAMP:20260419T221919
CREATED:20200124T152718Z
LAST-MODIFIED:20200124T152718Z
UID:2268-1580149800-1580149800@icrsp-rouen.com
SUMMARY:Messe
DESCRIPTION:
URL:https://icrsp-rouen.com/event/messe-57/
CATEGORIES:Messe
END:VEVENT
END:VCALENDAR